BEGIN:VCALENDAR
VERSION:2.0
PRODID:-//ppi.communityadvocates.net//NONSGML kigkonsult.se iCalcreator 2.3
 0.10//
CALSCALE:GREGORIAN
METHOD:PUBLISH
UID:d4d76f5d-cdd4-4fa0-8a67-c63e42148891
X-WR-CALDESC:Do you know how to identify substances that can be hidden in y
 our home? Do you know where these hiding places can be? Learn the signs th
 at your child may be involved in risky behaviors and how to talk to them a
 bout your concerns during RISE Drug Free MKE’s Reality Check on Friday\, J
 une 16. Reality Check will also offer free Narcan training\, fentanyl test
 s\, and Small Talks information. It’ll be held from 2 to 6 p.m. at COA You
 th & Family Center’s Safe Summer Kickoff on Friday\, June 16\, at COA’s Go
 ldin Center\, 2320 W. Burleigh St\, Milwaukee. It’s free and there’s no ne
 ed to register. Show up and enjoy family-friendly activities\, resources\,
  and free food. See you there!
X-WR-RELCALID:06774862678a53eea53031b4ee6a0735
X-WR-TIMEZONE:America/Chicago
BEGIN:VTIMEZONE
TZID:America/Chicago
BEGIN:STANDARD
TZNAME:CST
DTSTART:20221106T020000
TZOFFSETFROM:-0500
TZOFFSETTO:-0600
RDATE:20231105T020000
RDATE:20241103T020000
END:STANDARD
BEGIN:DAYLIGHT
TZNAME:CDT
DTSTART:20230312T020000
TZOFFSETFROM:-0600
TZOFFSETTO:-0500
RDATE:20240310T020000
END:DAYLIGHT
END:VTIMEZONE
BEGIN:VEVENT
UID:81e701d0-6eff-4c9d-8e35-bcbb90f9cb44
DTSTAMP:20260422T081640Z
DESCRIPTION:Do you know how to identify substances that can be hidden in yo
 ur home? Do you know where these hiding places can be? Learn the signs tha
 t your child may be involved in risky behaviors and how to talk to them ab
 out your concerns during RISE Drug Free MKE’s Reality Check on Friday\, Ju
 ne 16. Reality Check will also offer free Narcan training\, fentanyl tests
 \, and Small Talks information. It’ll be held from 2 to 6 p.m. at COA Yout
 h & Family Center’s Safe Summer Kickoff on Friday\, June 16\, at COA’s Gol
 din Center\, 2320 W. Burleigh St\, Milwaukee. It’s free and there’s no nee
 d to register. Show up and enjoy family-friendly activities\, resources\, 
 and free food. See you there!
DTSTART;TZID=America/Chicago:20230616T140000
DTEND;TZID=America/Chicago:20230616T180000
LOCATION:COA Goldin Center\, 2320 W. Burleigh St.\, Milwaukee\, WI 53206 US
SUMMARY:RISE Drug Free MKE Reality Check
END:VEVENT
END:VCALENDAR
