BEGIN:VCALENDAR
VERSION:2.0
PRODID:-//ppi.communityadvocates.net//NONSGML kigkonsult.se iCalcreator 2.3
 0.10//
CALSCALE:GREGORIAN
METHOD:PUBLISH
UID:f0467ac2-0774-4aae-90f4-10381b54a5a0
X-WR-CALDESC:Our offices will be closed to observe Memorial Day. Thank you 
 to all who have served and have sacrificed\, as well as all military famil
 ies.
X-WR-RELCALID:58b3fbe2efac05e7fadf399983a3881f
X-WR-TIMEZONE:America/Chicago
BEGIN:VTIMEZONE
TZID:America/Chicago
BEGIN:STANDARD
TZNAME:CST
DTSTART:20221106T020000
TZOFFSETFROM:-0500
TZOFFSETTO:-0600
RDATE:20231105T020000
RDATE:20241103T020000
END:STANDARD
BEGIN:DAYLIGHT
TZNAME:CDT
DTSTART:20230312T020000
TZOFFSETFROM:-0600
TZOFFSETTO:-0500
RDATE:20240310T020000
END:DAYLIGHT
END:VTIMEZONE
BEGIN:VEVENT
UID:d43284c4-5ddf-47b6-8ee8-93d991025431
DTSTAMP:20260422T065658Z
DESCRIPTION:Our offices will be closed to observe Memorial Day. Thank you t
 o all who have served and have sacrificed\, as well as all military famili
 es.
DTSTART;TZID=America/Chicago:20230529T000000
DTEND;TZID=America/Chicago:20230529T235900
LOCATION:
SUMMARY:Memorial Day
END:VEVENT
END:VCALENDAR
