BEGIN:VCALENDAR
VERSION:2.0
PRODID:-//ppi.communityadvocates.net//NONSGML kigkonsult.se iCalcreator 2.3
 0.10//
CALSCALE:GREGORIAN
METHOD:PUBLISH
UID:8bc485a9-a391-46ba-bed8-34297e624d7c
X-WR-CALDESC:<b>Please Note: The Adult Mental Health First Aid course consi
 sts of two hours of self-paced content followed by 6.5 hours of instructor
 -led training. The self-paced computer training must be completed at least
  three days prior to the beginning of the course and the one-hour self-pac
 ed post session computer training must be completed as well in order for a
 ttendees to obtain certification. Registration ends May 17 at 12 noon.</b>
 \n\nMental Health First Aid teaches you how to identify\, understand and r
 espond to signs of mental illness and substance use disorders. This traini
 ng gives you the skills you need to reach out and provide initial support 
 to someone who may be developing a mental health or substance use problem 
 and help connect them to the appropriate care.\n\nWhat the Mental Health F
 irst Aid Course offers:\n• Common signs and symptoms of mental illness\n• 
 Common signs and symptoms of substance use\n• How to interact with a perso
 n in crisis\n• How to connect the person with help\n• Content on trauma\, 
 addiction\, and self-care\n\nThe course will teach you how to apply the AL
 GEE action plan:\n• Assess for risk of suicide or harm.\n• Listen nonjudgm
 entally.\n• Give reassurance and information.\n• Encourage appropriate pro
 fessional help.\n• Encourage self-help and other support strategies.\n\n<b
 >This session is open to everyone\, but it's free for those who live or wo
 rk in Milwaukee County. However\, we ask that you reserve your seat with a
  $25 deposit. Those who live or work in Milwaukee County will have their d
 eposit refunded after they attend the workshop. Those who don't attend\, o
 r live and work outside of Milwaukee County\, will not receive a refund. T
 hank you! We appreciate your interest in learning more about mental health
  and wellness.</b>
X-WR-RELCALID:1b13804f341d2a5d76cdf544fc8e20eb
X-WR-TIMEZONE:America/Chicago
BEGIN:VTIMEZONE
TZID:America/Chicago
BEGIN:STANDARD
TZNAME:CST
DTSTART:20221106T020000
TZOFFSETFROM:-0500
TZOFFSETTO:-0600
RDATE:20231105T020000
RDATE:20241103T020000
END:STANDARD
BEGIN:DAYLIGHT
TZNAME:CDT
DTSTART:20230312T020000
TZOFFSETFROM:-0600
TZOFFSETTO:-0500
RDATE:20240310T020000
END:DAYLIGHT
END:VTIMEZONE
BEGIN:VEVENT
UID:73038fbf-b84a-46ed-a316-9ebef7e593da
DTSTAMP:20260422T070032Z
DESCRIPTION:<b>Please Note: The Adult Mental Health First Aid course consis
 ts of two hours of self-paced content followed by 6.5 hours of instructor-
 led training. The self-paced computer training must be completed at least 
 three days prior to the beginning of the course and the one-hour self-pace
 d post session computer training must be completed as well in order for at
 tendees to obtain certification. Registration ends May 17 at 12 noon.</b>
 \n\nMental Health First Aid teaches you how to identify\, understand and r
 espond to signs of mental illness and substance use disorders. This traini
 ng gives you the skills you need to reach out and provide initial support 
 to someone who may be developing a mental health or substance use problem 
 and help connect them to the appropriate care.\n\nWhat the Mental Health F
 irst Aid Course offers:\n• Common signs and symptoms of mental illness\n• 
 Common signs and symptoms of substance use\n• How to interact with a perso
 n in crisis\n• How to connect the person with help\n• Content on trauma\, 
 addiction\, and self-care\n\nThe course will teach you how to apply the AL
 GEE action plan:\n• Assess for risk of suicide or harm.\n• Listen nonjudgm
 entally.\n• Give reassurance and information.\n• Encourage appropriate pro
 fessional help.\n• Encourage self-help and other support strategies.\n\n<b
 >This session is open to everyone\, but it's free for those who live or wo
 rk in Milwaukee County. However\, we ask that you reserve your seat with a
  $25 deposit. Those who live or work in Milwaukee County will have their d
 eposit refunded after they attend the workshop. Those who don't attend\, o
 r live and work outside of Milwaukee County\, will not receive a refund. T
 hank you! We appreciate your interest in learning more about mental health
  and wellness.</b>
DTSTART;TZID=America/Chicago:20230524T090000
DTEND;TZID=America/Chicago:20230524T160000
LOCATION:via Zoom
SUMMARY:Adult Mental Health First Aid | May 24\, 2023
END:VEVENT
END:VCALENDAR
