BEGIN:VCALENDAR
VERSION:2.0
PRODID:-//ppi.communityadvocates.net//NONSGML kigkonsult.se iCalcreator 2.3
 0.10//
CALSCALE:GREGORIAN
METHOD:PUBLISH
UID:49caaf55-9cf4-427b-bc08-7822895ce01b
X-WR-CALDESC:Challenges at work\, home\, in relationships\, and in society 
 can leave us feeling sad\, hurt\, disconnected\, frustrated\, or even angr
 y. Research shows that mindfulness and gratitude can help us cope with dif
 ficulties and improve mental\, emotional\, and physical health. But how do
  we put mindfulness and gratitude into practice? Show yourself some TLC\, 
 and attend a Mindful Gratitude workshop to find out! The Mindful Gratitude
  Workshop offers a safe and supportive environment for you to relax\, rech
 arge\, and reconnect with your joy and purpose!\n\nYou will also receive a
  gift bag crafted by Mindful Gratitude!\n\nLearn skills to help you:\n• Se
 e the unique beauty in your life\, even on the hard days\n• Stay calm\, ev
 en in difficult situations\n• Stay centered\, even in a fast changing worl
 d\n\nParticipants receive:\n• Journal\, pen\, and sticker gift set\n• Onli
 ne follow-up session to discuss barriers & breakthroughs!\n\nThis workshop
  is for you if you:\n• Want to find more joy and meaning in your everyday 
 life\n• Want to improve your sense of wellbeing\n• Sometimes feel overwhel
 med by work\, family\, relationships\, and responsibilities.\n\n'Be presen
 t in all things\, and be grateful for all things.”~ Maya Angelou\n\n<b>Thi
 s session is open to everyone\, but it's free for those who live or work i
 n Milwaukee County. However\, we ask that you reserve your seat with a $25
  deposit. Those who live or work in Milwaukee County will have their depos
 it refunded after they attend the workshop. Those who don't attend\, or li
 ve and work outside of Milwaukee County\, will not receive a refund. Thank
  you! We appreciate your interest in learning more about mental health and
  wellness.</b>
X-WR-RELCALID:649a2d75d3405c324d5fc69d540f91ff
X-WR-TIMEZONE:America/Chicago
BEGIN:VTIMEZONE
TZID:America/Chicago
BEGIN:STANDARD
TZNAME:CST
DTSTART:20221106T020000
TZOFFSETFROM:-0500
TZOFFSETTO:-0600
RDATE:20231105T020000
RDATE:20241103T020000
END:STANDARD
BEGIN:DAYLIGHT
TZNAME:CDT
DTSTART:20230312T020000
TZOFFSETFROM:-0600
TZOFFSETTO:-0500
RDATE:20240310T020000
END:DAYLIGHT
END:VTIMEZONE
BEGIN:VEVENT
UID:b4f9c444-c526-46ff-820e-365902d5de32
DTSTAMP:20260422T070032Z
DESCRIPTION:Challenges at work\, home\, in relationships\, and in society c
 an leave us feeling sad\, hurt\, disconnected\, frustrated\, or even angry
 . Research shows that mindfulness and gratitude can help us cope with diff
 iculties and improve mental\, emotional\, and physical health. But how do 
 we put mindfulness and gratitude into practice? Show yourself some TLC\, a
 nd attend a Mindful Gratitude workshop to find out! The Mindful Gratitude 
 Workshop offers a safe and supportive environment for you to relax\, recha
 rge\, and reconnect with your joy and purpose!\n\nYou will also receive a 
 gift bag crafted by Mindful Gratitude!\n\nLearn skills to help you:\n• See
  the unique beauty in your life\, even on the hard days\n• Stay calm\, eve
 n in difficult situations\n• Stay centered\, even in a fast changing world
 \n\nParticipants receive:\n• Journal\, pen\, and sticker gift set\n• Onlin
 e follow-up session to discuss barriers & breakthroughs!\n\nThis workshop 
 is for you if you:\n• Want to find more joy and meaning in your everyday l
 ife\n• Want to improve your sense of wellbeing\n• Sometimes feel overwhelm
 ed by work\, family\, relationships\, and responsibilities.\n\n'Be present
  in all things\, and be grateful for all things.”~ Maya Angelou\n\n<b>This
  session is open to everyone\, but it's free for those who live or work in
  Milwaukee County. However\, we ask that you reserve your seat with a $25 
 deposit. Those who live or work in Milwaukee County will have their deposi
 t refunded after they attend the workshop. Those who don't attend\, or liv
 e and work outside of Milwaukee County\, will not receive a refund. Thank 
 you! We appreciate your interest in learning more about mental health and 
 wellness.</b>
DTSTART;TZID=America/Chicago:20230523T170000
DTEND;TZID=America/Chicago:20230523T180000
LOCATION:Community Advocates\, 728 N. James Lovell St.\, Milwaukee\, WI 532
 33 US
SUMMARY:Mindful Gratitude Workshop | May 23\, 2023
END:VEVENT
END:VCALENDAR
