BEGIN:VCALENDAR
VERSION:2.0
PRODID:-//ppi.communityadvocates.net//NONSGML kigkonsult.se iCalcreator 2.3
 0.10//
CALSCALE:GREGORIAN
METHOD:PUBLISH
UID:aeba430b-61a3-4e35-8ac8-e3ce94ea3261
X-WR-CALDESC:As a result of this workshop\, participants will gain a better
  understanding as to how trauma affects the brain\, discuss risk factors f
 or substance use disorders\, and develop their strategy for intervention m
 ethods for a particular population.\n\nWhat we will discuss:\n+ Trauma def
 inition\n+ How trauma affects the brain\n+ Statistics on substance use and
  ACEs\n+ Risk factors\n+ Strategies for care\nStress reducers\n+ Prioritiz
 ing Risk Factors\nBeginning a Call to Action\nWhat has your organization d
 one and how has it worked?\n\n<b>This session is open to everyone\, but it
 's free for those who live or work in Milwaukee County. However\, we ask t
 hat you reserve your seat with a $25 deposit. Those who live or work in Mi
 lwaukee County will have their deposit refunded after they attend the work
 shop. Those who don't attend\, or live and work outside of Milwaukee Count
 y\, will not receive a refund. Thank you! We appreciate your interest in l
 earning more about mental health and wellness.</b>
X-WR-RELCALID:f9badaa4b318eca705e27898deb59949
X-WR-TIMEZONE:America/Chicago
BEGIN:VTIMEZONE
TZID:America/Chicago
BEGIN:STANDARD
TZNAME:CST
DTSTART:20221106T020000
TZOFFSETFROM:-0500
TZOFFSETTO:-0600
RDATE:20231105T020000
RDATE:20241103T020000
END:STANDARD
BEGIN:DAYLIGHT
TZNAME:CDT
DTSTART:20230312T020000
TZOFFSETFROM:-0600
TZOFFSETTO:-0500
RDATE:20240310T020000
END:DAYLIGHT
END:VTIMEZONE
BEGIN:VEVENT
UID:69f0f748-3bc9-428e-8b42-eff5c4b2fe37
DTSTAMP:20260422T065843Z
DESCRIPTION:As a result of this workshop\, participants will gain a better 
 understanding as to how trauma affects the brain\, discuss risk factors fo
 r substance use disorders\, and develop their strategy for intervention me
 thods for a particular population.\n\nWhat we will discuss:\n+ Trauma defi
 nition\n+ How trauma affects the brain\n+ Statistics on substance use and 
 ACEs\n+ Risk factors\n+ Strategies for care\nStress reducers\n+ Prioritizi
 ng Risk Factors\nBeginning a Call to Action\nWhat has your organization do
 ne and how has it worked?\n\n<b>This session is open to everyone\, but it'
 s free for those who live or work in Milwaukee County. However\, we ask th
 at you reserve your seat with a $25 deposit. Those who live or work in Mil
 waukee County will have their deposit refunded after they attend the works
 hop. Those who don't attend\, or live and work outside of Milwaukee County
 \, will not receive a refund. Thank you! We appreciate your interest in le
 arning more about mental health and wellness.</b>
DTSTART;TZID=America/Chicago:20230522T100000
DTEND;TZID=America/Chicago:20230522T120000
LOCATION:via Zoom
SUMMARY:Trauma and the Brain: An Introduction | May 22\, 2023
END:VEVENT
END:VCALENDAR
