BEGIN:VCALENDAR
VERSION:2.0
PRODID:-//ppi.communityadvocates.net//NONSGML kigkonsult.se iCalcreator 2.3
 0.10//
CALSCALE:GREGORIAN
METHOD:PUBLISH
UID:417aa846-e465-4c10-943a-ba8f177607ee
X-WR-CALDESC:<b>Please Note: The Youth Mental Health First Aid course consi
 sts of two hours of self-paced content followed by 4.5 hours of instructor
 -led training. The self-paced computer training must be completed at least
  three days prior to the beginning of the course and the one-hour self-pac
 ed post session computer training must be completed as well in order for a
 ttendees to obtain certification. Registration ends May 5.</b>\n\nYouth Me
 ntal Health First Aid is designed to teach parents\, family members\, care
 givers\, teachers\, school staff\, peers\, neighbors\, health and human se
 rvices workers\, and other caring citizens how to help an adolescent (age 
 12-18) who is experiencing a mental health or addictions challenge or is i
 n crisis.\n\nThe course introduces common mental health challenges for you
 th\, reviews typical adolescent development\, and teaches a 5-step action 
 plan for how to help young people in both crisis and non-crisis situations
 .\n\nTopics covered include:\n+ Anxiety\n+ Depression\n+ Substance use\n+ 
 Disorders in which psychosis may occur\n+ Disruptive behavior disorders (i
 ncluding AD/HD)\n+ Eating disorders\n\n<b>This session is open to everyone
 \, but it's free for those who live or work in Milwaukee County. However\,
  we ask that you reserve your seat with a $25 deposit. Those who live or w
 ork in Milwaukee County will have their deposit refunded after they attend
  the workshop. Those who don't attend\, or live and work outside of Milwau
 kee County\, will not receive a refund. Thank you! We appreciate your inte
 rest in learning more about mental health and wellness.</b>
X-WR-RELCALID:2bc3cfd2b899e912e8392a4f5213802a
X-WR-TIMEZONE:America/Chicago
BEGIN:VTIMEZONE
TZID:America/Chicago
BEGIN:STANDARD
TZNAME:CST
DTSTART:20221106T020000
TZOFFSETFROM:-0500
TZOFFSETTO:-0600
RDATE:20231105T020000
RDATE:20241103T020000
END:STANDARD
BEGIN:DAYLIGHT
TZNAME:CDT
DTSTART:20230312T020000
TZOFFSETFROM:-0600
TZOFFSETTO:-0500
RDATE:20240310T020000
END:DAYLIGHT
END:VTIMEZONE
BEGIN:VEVENT
UID:9d0857fd-3b46-48e4-97f9-95abf15029b4
DTSTAMP:20260419T194040Z
DESCRIPTION:<b>Please Note: The Youth Mental Health First Aid course consis
 ts of two hours of self-paced content followed by 4.5 hours of instructor-
 led training. The self-paced computer training must be completed at least 
 three days prior to the beginning of the course and the one-hour self-pace
 d post session computer training must be completed as well in order for at
 tendees to obtain certification. Registration ends May 5.</b>\n\nYouth Men
 tal Health First Aid is designed to teach parents\, family members\, careg
 ivers\, teachers\, school staff\, peers\, neighbors\, health and human ser
 vices workers\, and other caring citizens how to help an adolescent (age 1
 2-18) who is experiencing a mental health or addictions challenge or is in
  crisis.\n\nThe course introduces common mental health challenges for yout
 h\, reviews typical adolescent development\, and teaches a 5-step action p
 lan for how to help young people in both crisis and non-crisis situations.
 \n\nTopics covered include:\n+ Anxiety\n+ Depression\n+ Substance use\n+ D
 isorders in which psychosis may occur\n+ Disruptive behavior disorders (in
 cluding AD/HD)\n+ Eating disorders\n\n<b>This session is open to everyone\
 , but it's free for those who live or work in Milwaukee County. However\, 
 we ask that you reserve your seat with a $25 deposit. Those who live or wo
 rk in Milwaukee County will have their deposit refunded after they attend 
 the workshop. Those who don't attend\, or live and work outside of Milwauk
 ee County\, will not receive a refund. Thank you! We appreciate your inter
 est in learning more about mental health and wellness.</b>
DTSTART;TZID=America/Chicago:20230512T090000
DTEND;TZID=America/Chicago:20230512T153000
LOCATION:via Zoom
SUMMARY:Youth Mental Health First Aid | May 12\, 2023
END:VEVENT
END:VCALENDAR
