BEGIN:VCALENDAR
VERSION:2.0
PRODID:-//ppi.communityadvocates.net//NONSGML kigkonsult.se iCalcreator 2.3
 0.10//
CALSCALE:GREGORIAN
METHOD:PUBLISH
UID:3d9ccedc-0530-4bf6-bdde-caa20fd24d99
X-WR-CALDESC:<b>Please Note: The Adult Mental Health First Aid course consi
 sts of two hours of self-paced content followed by 6.5 hours of instructor
 -led training. The self-paced computer training must be completed at least
  three days prior to the beginning of the course and the one-hour self-pac
 ed post session computer training must be completed as well in order for a
 ttendees to obtain certification. Registration ends April 19 at 12 noon.</
 b>\n\nMental Health First Aid teaches you how to identify\, understand and
  respond to signs of mental illness and substance use disorders. This trai
 ning gives you the skills you need to reach out and provide initial suppor
 t to someone who may be developing a mental health or substance use proble
 m and help connect them to the appropriate care.\n\nWhat the Mental Health
  First Aid Course offers:\n• Common signs and symptoms of mental illness\n
 • Common signs and symptoms of substance use\n• How to interact with a per
 son in crisis\n• How to connect the person with help\n• Content on trauma\
 , addiction\, and self-care\n\nThe course will teach you how to apply the 
 ALGEE action plan:\n• Assess for risk of suicide or harm.\n• Listen nonjud
 gmentally.\n• Give reassurance and information.\n• Encourage appropriate p
 rofessional help.\n• Encourage self-help and other support strategies.\n\n
 <b>This session is open to everyone\, but it's free for those who live or 
 work in Milwaukee County. However\, we ask that you reserve your seat with
  a $25 deposit. Those who live or work in Milwaukee County will have their
  deposit refunded after they attend the workshop. Those who don't attend\,
  or live and work outside of Milwaukee County\, will not receive a refund.
  Thank you! We appreciate your interest in learning more about mental heal
 th and wellness.</b>
X-WR-RELCALID:6b47145aa3734db00bc8f32fa2226462
X-WR-TIMEZONE:America/Chicago
BEGIN:VTIMEZONE
TZID:America/Chicago
BEGIN:STANDARD
TZNAME:CST
DTSTART:20221106T020000
TZOFFSETFROM:-0500
TZOFFSETTO:-0600
RDATE:20231105T020000
END:STANDARD
BEGIN:DAYLIGHT
TZNAME:CDT
DTSTART:20230312T020000
TZOFFSETFROM:-0600
TZOFFSETTO:-0500
RDATE:20240310T020000
END:DAYLIGHT
END:VTIMEZONE
BEGIN:VEVENT
UID:c3b8ea13-3041-41e6-acc5-0c0db1561c9b
DTSTAMP:20260422T054102Z
DESCRIPTION:<b>Please Note: The Adult Mental Health First Aid course consis
 ts of two hours of self-paced content followed by 6.5 hours of instructor-
 led training. The self-paced computer training must be completed at least 
 three days prior to the beginning of the course and the one-hour self-pace
 d post session computer training must be completed as well in order for at
 tendees to obtain certification. Registration ends April 19 at 12 noon.</b
 >\n\nMental Health First Aid teaches you how to identify\, understand and 
 respond to signs of mental illness and substance use disorders. This train
 ing gives you the skills you need to reach out and provide initial support
  to someone who may be developing a mental health or substance use problem
  and help connect them to the appropriate care.\n\nWhat the Mental Health 
 First Aid Course offers:\n• Common signs and symptoms of mental illness\n•
  Common signs and symptoms of substance use\n• How to interact with a pers
 on in crisis\n• How to connect the person with help\n• Content on trauma\,
  addiction\, and self-care\n\nThe course will teach you how to apply the A
 LGEE action plan:\n• Assess for risk of suicide or harm.\n• Listen nonjudg
 mentally.\n• Give reassurance and information.\n• Encourage appropriate pr
 ofessional help.\n• Encourage self-help and other support strategies.\n\n<
 b>This session is open to everyone\, but it's free for those who live or w
 ork in Milwaukee County. However\, we ask that you reserve your seat with 
 a $25 deposit. Those who live or work in Milwaukee County will have their 
 deposit refunded after they attend the workshop. Those who don't attend\, 
 or live and work outside of Milwaukee County\, will not receive a refund. 
 Thank you! We appreciate your interest in learning more about mental healt
 h and wellness.</b>
DTSTART;TZID=America/Chicago:20230426T090000
DTEND;TZID=America/Chicago:20230426T160000
LOCATION:via Zoom
SUMMARY:Adult Mental Health First Aid | April 26\, 2023
END:VEVENT
END:VCALENDAR
