BEGIN:VCALENDAR
VERSION:2.0
PRODID:-//ppi.communityadvocates.net//NONSGML kigkonsult.se iCalcreator 2.3
 0.10//
CALSCALE:GREGORIAN
METHOD:PUBLISH
UID:df77b0b8-c1b5-4e04-93c1-922c6d72bed7
X-WR-CALDESC:Do you want to learn how to defuse a situation before it spira
 ls out of control? Do you want to understand why and how conflict builds a
 nd what you can do to resolve it?\n\nDuring this two-hour virtual workshop
 \, you will learn how to increase safety by utilizing verbal de-escalation
  techniques. Participants will explore foundational information on how to 
 reduce the level of conflict through self-knowledge\, understand how past 
 experiences influence current behavior\, and practice 10 tips of de-escala
 tion. This workshop is aimed toward individuals who encounter conflict in 
 the workplace\, at home\, or in the community\, whether you are a parent o
 r educator\, work in the helping professions\, or otherwise work with the 
 public in potentially tense situations.\n\n<b>This session is open to ever
 yone\, but it's free for those who live or work in Milwaukee County. Howev
 er\, we ask that you reserve your seat with a $25 deposit. Those who live 
 or work in Milwaukee County will have their deposit refunded after they at
 tend the workshop. Those who don't attend\, or live and work outside of Mi
 lwaukee County\, will not receive a refund. Thank you! We appreciate your 
 interest in learning more about mental health and wellness.</b>
X-WR-RELCALID:0b5729553c0fbe8c99147fa2279a76f7
X-WR-TIMEZONE:America/Chicago
BEGIN:VTIMEZONE
TZID:America/Chicago
BEGIN:STANDARD
TZNAME:CST
DTSTART:20221106T020000
TZOFFSETFROM:-0500
TZOFFSETTO:-0600
RDATE:20231105T020000
END:STANDARD
BEGIN:DAYLIGHT
TZNAME:CDT
DTSTART:20230312T020000
TZOFFSETFROM:-0600
TZOFFSETTO:-0500
RDATE:20240310T020000
END:DAYLIGHT
END:VTIMEZONE
BEGIN:VEVENT
UID:ef7a22de-8f51-4826-b71c-c494b2613e4b
DTSTAMP:20260422T055045Z
DESCRIPTION:Do you want to learn how to defuse a situation before it spiral
 s out of control? Do you want to understand why and how conflict builds an
 d what you can do to resolve it?\n\nDuring this two-hour virtual workshop\
 , you will learn how to increase safety by utilizing verbal de-escalation 
 techniques. Participants will explore foundational information on how to r
 educe the level of conflict through self-knowledge\, understand how past e
 xperiences influence current behavior\, and practice 10 tips of de-escalat
 ion. This workshop is aimed toward individuals who encounter conflict in t
 he workplace\, at home\, or in the community\, whether you are a parent or
  educator\, work in the helping professions\, or otherwise work with the p
 ublic in potentially tense situations.\n\n<b>This session is open to every
 one\, but it's free for those who live or work in Milwaukee County. Howeve
 r\, we ask that you reserve your seat with a $25 deposit. Those who live o
 r work in Milwaukee County will have their deposit refunded after they att
 end the workshop. Those who don't attend\, or live and work outside of Mil
 waukee County\, will not receive a refund. Thank you! We appreciate your i
 nterest in learning more about mental health and wellness.</b>
DTSTART;TZID=America/Chicago:20230420T100000
DTEND;TZID=America/Chicago:20230420T120000
LOCATION:via Zoom
SUMMARY:10 Tips to Reduce Conflict: Practical Verbal De-Escalation Techniqu
 es | April 20\, 2023
END:VEVENT
END:VCALENDAR
