BEGIN:VCALENDAR
VERSION:2.0
PRODID:-//ppi.communityadvocates.net//NONSGML kigkonsult.se iCalcreator 2.3
 0.10//
CALSCALE:GREGORIAN
METHOD:PUBLISH
UID:7c33556f-3b6b-403c-a488-d73527301cfd
X-WR-CALDESC:The Empowerment Coalition of Milwaukee (ECOM) is a monthly gat
 hering of social services professionals\, advocates\, and consumers organi
 zed by Community Advocates Public Policy Institute. ECOM meets the third W
 ednesday of the month throughout the year (except December) and explores t
 opics that are vital to Milwaukee’s human services professionals. This mon
 th's topic is Harm Reduction/AODA.\n\nFee is $5 for light refreshments and
  materials and can be paid via credit card on this page. Registrations are
  not refundable. Kindly make sure to RSVP by the Friday prior to each meet
 ing.
X-WR-RELCALID:8608b816346d943211aa7d5b9e80d5de
X-WR-TIMEZONE:America/Chicago
BEGIN:VTIMEZONE
TZID:America/Chicago
BEGIN:STANDARD
TZNAME:CST
DTSTART:20221106T020000
TZOFFSETFROM:-0500
TZOFFSETTO:-0600
RDATE:20231105T020000
END:STANDARD
BEGIN:DAYLIGHT
TZNAME:CDT
DTSTART:20230312T020000
TZOFFSETFROM:-0600
TZOFFSETTO:-0500
RDATE:20240310T020000
END:DAYLIGHT
END:VTIMEZONE
BEGIN:VEVENT
UID:dbdbd040-19b4-4a62-859a-463d0274976f
DTSTAMP:20260422T054804Z
DESCRIPTION:The Empowerment Coalition of Milwaukee (ECOM) is a monthly gath
 ering of social services professionals\, advocates\, and consumers organiz
 ed by Community Advocates Public Policy Institute. ECOM meets the third We
 dnesday of the month throughout the year (except December) and explores to
 pics that are vital to Milwaukee’s human services professionals. This mont
 h's topic is Harm Reduction/AODA.\n\nFee is $5 for light refreshments and 
 materials and can be paid via credit card on this page. Registrations are 
 not refundable. Kindly make sure to RSVP by the Friday prior to each meeti
 ng.
DTSTART;TZID=America/Chicago:20230419T090000
DTEND;TZID=America/Chicago:20230419T120000
LOCATION:Community Advocates\, 728 N\, Milwaukee\, WI 53233 US
SUMMARY:ECOM Workshop: Harm Reduction/AODA
END:VEVENT
END:VCALENDAR
