BEGIN:VCALENDAR
VERSION:2.0
PRODID:-//ppi.communityadvocates.net//NONSGML kigkonsult.se iCalcreator 2.3
 0.10//
CALSCALE:GREGORIAN
METHOD:PUBLISH
UID:415a4a95-292c-4a77-92ff-8f9b91714b31
X-WR-CALDESC:The 2023-2025 Wisconsin State Budget has the power to impact e
 ach Wisconsinite in the next two years and beyond on issues that are centr
 al to our community. Hear from Greater Milwaukee legislators who will vote
  on it\, and make your voice heard in this intimate\, bipartisan gathering
  on March 27.\n\n<b>Community Advocates Public Policy Institute is hosting
  a panel discussion with State Rep. Evan Goyke (D-Milwaukee)\, State Sen. 
 Rob Hutton (R-Brookfield)\, and State Sen. LaTonya Johnson (D-Milwaukee) f
 rom 4 to 5:30 p.m. on Monday\, March 27\, in our Downtown offices\, 728 N.
  James Lovell St.\, Milwaukee.</b>\n\nPanel discussion topics will include
 : \n+ Housing affordability and stability\n+ Mental health and substance u
 se disorder services\n+ Tax credits for low-income individuals and familie
 s\n+ Subsidized jobs\n\nThe panel discussion will be moderated by Communit
 y Advocates Public Policy Institute’s Senior Policy Advocate Julie Kerksic
 k\, who will provide the audience the opportunity to ask questions after t
 he legislators speak on our main topics. \n\nDoors open at 3:30 p.m. on Ma
 rch 27\; the discussion will begin at 4 p.m. sharp. Light refreshments wil
 l be served.  If you require special accommodations\, please register indi
 cate your request where prompted on the registration form and we will do o
 ur best to fulfill them. \n
X-WR-RELCALID:3b3e01795e997fd77e84b5bc71f2289e
X-WR-TIMEZONE:America/Chicago
BEGIN:VTIMEZONE
TZID:America/Chicago
BEGIN:STANDARD
TZNAME:CST
DTSTART:20221106T020000
TZOFFSETFROM:-0500
TZOFFSETTO:-0600
RDATE:20231105T020000
END:STANDARD
BEGIN:DAYLIGHT
TZNAME:CDT
DTSTART:20230312T020000
TZOFFSETFROM:-0600
TZOFFSETTO:-0500
RDATE:20240310T020000
END:DAYLIGHT
END:VTIMEZONE
BEGIN:VEVENT
UID:dd8236c9-7e85-4e4a-8e69-4b498806cc79
DTSTAMP:20260422T041632Z
DESCRIPTION:The 2023-2025 Wisconsin State Budget has the power to impact ea
 ch Wisconsinite in the next two years and beyond on issues that are centra
 l to our community. Hear from Greater Milwaukee legislators who will vote 
 on it\, and make your voice heard in this intimate\, bipartisan gathering 
 on March 27.\n\n<b>Community Advocates Public Policy Institute is hosting 
 a panel discussion with State Rep. Evan Goyke (D-Milwaukee)\, State Sen. R
 ob Hutton (R-Brookfield)\, and State Sen. LaTonya Johnson (D-Milwaukee) fr
 om 4 to 5:30 p.m. on Monday\, March 27\, in our Downtown offices\, 728 N. 
 James Lovell St.\, Milwaukee.</b>\n\nPanel discussion topics will include:
  \n+ Housing affordability and stability\n+ Mental health and substance us
 e disorder services\n+ Tax credits for low-income individuals and families
 \n+ Subsidized jobs\n\nThe panel discussion will be moderated by Community
  Advocates Public Policy Institute’s Senior Policy Advocate Julie Kerksick
 \, who will provide the audience the opportunity to ask questions after th
 e legislators speak on our main topics. \n\nDoors open at 3:30 p.m. on Mar
 ch 27\; the discussion will begin at 4 p.m. sharp. Light refreshments will
  be served.  If you require special accommodations\, please register indic
 ate your request where prompted on the registration form and we will do ou
 r best to fulfill them. \n
DTSTART;TZID=America/Chicago:20230327T160000
DTEND;TZID=America/Chicago:20230327T173000
LOCATION:Community Advocates\, 728 N. James Lovell St.\, Milwaukee\, WI 532
 33 US
SUMMARY:State Budget Panel Discussion
END:VEVENT
END:VCALENDAR
