BEGIN:VCALENDAR
VERSION:2.0
PRODID:-//ppi.communityadvocates.net//NONSGML kigkonsult.se iCalcreator 2.3
 0.10//
CALSCALE:GREGORIAN
METHOD:PUBLISH
UID:e3c213ca-5785-4d2b-8fb6-e98832317d57
X-WR-CALDESC:<b>Registration is closed for this event. Thanks for your inte
 rest!</b>\n\nChallenges at work\, home\, in relationships\, and in society
  can leave us feeling sad\, hurt\, disconnected\, frustrated\, or even ang
 ry. Research shows that mindfulness and gratitude can help us cope with di
 fficulties and improve mental\, emotional\, and physical health. But how d
 o we put mindfulness and gratitude into practice? Show yourself some TLC\,
  and attend a Mindful Gratitude workshop to find out! The Mindful Gratitud
 e Workshop offers a safe and supportive environment for you to relax\, rec
 harge\, and reconnect with your joy and purpose!\n\nYou will also receive 
 a gift bag crafted by Mindful Gratitude!\n\nLearn skills to help you:\n• S
 ee the unique beauty in your life\, even on the hard days\n• Stay calm\, e
 ven in difficult situations\n• Stay centered\, even in a fast changing wor
 ld\n\nParticipants receive:\n• Journal\, pen\, and sticker gift set\n• Onl
 ine follow-up session to discuss barriers & breakthroughs!\n\nThis worksho
 p is for you if you:\n• Want to find more joy and meaning in your everyday
  life\n• Want to improve your sense of wellbeing\n• Sometimes feel overwhe
 lmed by work\, family\, relationships\, and responsibilities.\n\n'Be prese
 nt in all things\, and be grateful for all things.”~ Maya Angelou\n\n<b>We
 're offering this session FREE of charge as part of Light & Unite Red Week
 \, when dozens of partners across Milwaukee County join forces to promote 
 healthy\, drug- and alcohol-free living and support our community members 
 who are improving their lives by remaining free of substance use and achie
 ving holistic wellness. Registration is required at the link below.</b>
X-WR-RELCALID:24171d7eef9a79d34744f18e35c25f2c
X-WR-TIMEZONE:America/Chicago
BEGIN:VTIMEZONE
TZID:America/Chicago
BEGIN:STANDARD
TZNAME:CST
DTSTART:20221106T020000
TZOFFSETFROM:-0500
TZOFFSETTO:-0600
RDATE:20231105T020000
END:STANDARD
BEGIN:DAYLIGHT
TZNAME:CDT
DTSTART:20230312T020000
TZOFFSETFROM:-0600
TZOFFSETTO:-0500
RDATE:20240310T020000
END:DAYLIGHT
END:VTIMEZONE
BEGIN:VEVENT
UID:e16c56e6-08c8-4682-9eb9-5a36ea4be284
DTSTAMP:20260422T041926Z
DESCRIPTION:<b>Registration is closed for this event. Thanks for your inter
 est!</b>\n\nChallenges at work\, home\, in relationships\, and in society 
 can leave us feeling sad\, hurt\, disconnected\, frustrated\, or even angr
 y. Research shows that mindfulness and gratitude can help us cope with dif
 ficulties and improve mental\, emotional\, and physical health. But how do
  we put mindfulness and gratitude into practice? Show yourself some TLC\, 
 and attend a Mindful Gratitude workshop to find out! The Mindful Gratitude
  Workshop offers a safe and supportive environment for you to relax\, rech
 arge\, and reconnect with your joy and purpose!\n\nYou will also receive a
  gift bag crafted by Mindful Gratitude!\n\nLearn skills to help you:\n• Se
 e the unique beauty in your life\, even on the hard days\n• Stay calm\, ev
 en in difficult situations\n• Stay centered\, even in a fast changing worl
 d\n\nParticipants receive:\n• Journal\, pen\, and sticker gift set\n• Onli
 ne follow-up session to discuss barriers & breakthroughs!\n\nThis workshop
  is for you if you:\n• Want to find more joy and meaning in your everyday 
 life\n• Want to improve your sense of wellbeing\n• Sometimes feel overwhel
 med by work\, family\, relationships\, and responsibilities.\n\n'Be presen
 t in all things\, and be grateful for all things.”~ Maya Angelou\n\n<b>We'
 re offering this session FREE of charge as part of Light & Unite Red Week\
 , when dozens of partners across Milwaukee County join forces to promote h
 ealthy\, drug- and alcohol-free living and support our community members w
 ho are improving their lives by remaining free of substance use and achiev
 ing holistic wellness. Registration is required at the link below.</b>
DTSTART;TZID=America/Chicago:20230326T160000
DTEND;TZID=America/Chicago:20230326T170000
LOCATION:via Zoom
SUMMARY:Mindful Gratitude Workshop | March 26\, 2023
END:VEVENT
END:VCALENDAR
