BEGIN:VCALENDAR
VERSION:2.0
PRODID:-//ppi.communityadvocates.net//NONSGML kigkonsult.se iCalcreator 2.3
 0.10//
CALSCALE:GREGORIAN
METHOD:PUBLISH
UID:482667f5-da87-43e3-8006-a12b3045de74
X-WR-CALDESC:RISE Drug Free MKE welcomes you to Discovery World! Registrati
 on is required at the link below.
X-WR-RELCALID:2f9a081f7869f1a16e6a35c295653a75
X-WR-TIMEZONE:America/Chicago
BEGIN:VTIMEZONE
TZID:America/Chicago
BEGIN:STANDARD
TZNAME:CST
DTSTART:20221106T020000
TZOFFSETFROM:-0500
TZOFFSETTO:-0600
RDATE:20231105T020000
END:STANDARD
BEGIN:DAYLIGHT
TZNAME:CDT
DTSTART:20230312T020000
TZOFFSETFROM:-0600
TZOFFSETTO:-0500
RDATE:20240310T020000
END:DAYLIGHT
END:VTIMEZONE
BEGIN:VEVENT
UID:3c443477-f78b-44cb-971a-185e64cdc262
DTSTAMP:20260422T040835Z
DESCRIPTION:RISE Drug Free MKE welcomes you to Discovery World! Registratio
 n is required at the link below.
DTSTART;TZID=America/Chicago:20230323T120000
DTEND;TZID=America/Chicago:20230323T160000
LOCATION:Discovery World\, 500 N. Harbor Drive\, Milwaukee\, WI 53202 US
SUMMARY:Family Discovery Event | Light & Unite Red Week
END:VEVENT
END:VCALENDAR
