BEGIN:VCALENDAR
VERSION:2.0
PRODID:-//ppi.communityadvocates.net//NONSGML kigkonsult.se iCalcreator 2.3
 0.10//
CALSCALE:GREGORIAN
METHOD:PUBLISH
UID:a4554434-7e68-4b80-9c81-8e4ba872e06e
X-WR-CALDESC:Do you want to learn how to defuse a situation before it spira
 ls out of control? Do you want to understand why and how conflict builds a
 nd what you can do to resolve it?\n\nDuring this two-hour virtual workshop
 \, you will learn how to increase safety by utilizing verbal de-escalation
  techniques. Participants will explore foundational information on how to 
 reduce the level of conflict through self-knowledge\, understand how past 
 experiences influence current behavior\, and practice 10 tips of de-escala
 tion. This workshop is aimed toward individuals who encounter conflict in 
 the workplace\, at home\, or in the community\, whether you are a parent o
 r educator\, work in the helping professions\, or otherwise work with the 
 public in potentially tense situations.\n\n<b>We're offering this session 
 FREE of charge as part of Light & Unite Red Week\, when dozens of partners
  across Milwaukee County join forces to promote healthy\, drug- and alcoho
 l-free living and support our community members who are improving their li
 ves by remaining free of substance use and achieving holistic wellness. Re
 gistration is required at the link below.</b>
X-WR-RELCALID:420f0ec0d101fdbe6d5c820c321d2d33
X-WR-TIMEZONE:America/Chicago
BEGIN:VTIMEZONE
TZID:America/Chicago
BEGIN:STANDARD
TZNAME:CST
DTSTART:20221106T020000
TZOFFSETFROM:-0500
TZOFFSETTO:-0600
RDATE:20231105T020000
END:STANDARD
BEGIN:DAYLIGHT
TZNAME:CDT
DTSTART:20230312T020000
TZOFFSETFROM:-0600
TZOFFSETTO:-0500
RDATE:20240310T020000
END:DAYLIGHT
END:VTIMEZONE
BEGIN:VEVENT
UID:2691f541-43c0-476e-a47a-7be62d44f7a6
DTSTAMP:20260422T041406Z
DESCRIPTION:Do you want to learn how to defuse a situation before it spiral
 s out of control? Do you want to understand why and how conflict builds an
 d what you can do to resolve it?\n\nDuring this two-hour virtual workshop\
 , you will learn how to increase safety by utilizing verbal de-escalation 
 techniques. Participants will explore foundational information on how to r
 educe the level of conflict through self-knowledge\, understand how past e
 xperiences influence current behavior\, and practice 10 tips of de-escalat
 ion. This workshop is aimed toward individuals who encounter conflict in t
 he workplace\, at home\, or in the community\, whether you are a parent or
  educator\, work in the helping professions\, or otherwise work with the p
 ublic in potentially tense situations.\n\n<b>We're offering this session F
 REE of charge as part of Light & Unite Red Week\, when dozens of partners 
 across Milwaukee County join forces to promote healthy\, drug- and alcohol
 -free living and support our community members who are improving their liv
 es by remaining free of substance use and achieving holistic wellness. Reg
 istration is required at the link below.</b>
DTSTART;TZID=America/Chicago:20230323T100000
DTEND;TZID=America/Chicago:20230323T120000
LOCATION:via Zoom
SUMMARY:10 Tips to Reduce Conflict: Practical Verbal De-Escalation Techniqu
 es | March 23\, 2023
END:VEVENT
END:VCALENDAR
