BEGIN:VCALENDAR
VERSION:2.0
PRODID:-//ppi.communityadvocates.net//NONSGML kigkonsult.se iCalcreator 2.3
 0.10//
CALSCALE:GREGORIAN
METHOD:PUBLISH
UID:73305988-6175-41c0-9849-87fad10ec4d4
X-WR-CALDESC:<b>Please Note: The Adult Mental Health First Aid course consi
 sts of two hours of self-paced content followed by 6.5 hours of instructor
 -led training. The self-paced computer training must be completed at least
  three days prior to the beginning of the course and the one-hour self-pac
 ed post session computer training must be completed as well in order for a
 ttendees to obtain certification. Registration ends March 15 at 12 noon.</
 b>\n\nMental Health First Aid teaches you how to identify\, understand and
  respond to signs of mental illness and substance use disorders. This trai
 ning gives you the skills you need to reach out and provide initial suppor
 t to someone who may be developing a mental health or substance use proble
 m and help connect them to the appropriate care.\n\nWhat the Mental Health
  First Aid Course offers:\n• Common signs and symptoms of mental illness\n
 • Common signs and symptoms of substance use\n• How to interact with a per
 son in crisis\n• How to connect the person with help\n• Content on trauma\
 , addiction\, and self-care\n\nThe course will teach you how to apply the 
 ALGEE action plan:\n• Assess for risk of suicide or harm.\n• Listen nonjud
 gmentally.\n• Give reassurance and information.\n• Encourage appropriate p
 rofessional help.\n• Encourage self-help and other support strategies.\n\n
 <b>We're offering this session FREE of charge as part of Light & Unite Red
  Week\, when dozens of partners across Milwaukee County join forces to pro
 mote healthy\, drug- and alcohol-free living and support our community mem
 bers who are improving their lives by remaining free of substance use and 
 achieving holistic wellness. Registration is required at the link below.</
 b>
X-WR-RELCALID:26b23a107385db0bcb77c4bdc0593fce
X-WR-TIMEZONE:America/Chicago
BEGIN:VTIMEZONE
TZID:America/Chicago
BEGIN:STANDARD
TZNAME:CST
DTSTART:20221106T020000
TZOFFSETFROM:-0500
TZOFFSETTO:-0600
RDATE:20231105T020000
END:STANDARD
BEGIN:DAYLIGHT
TZNAME:CDT
DTSTART:20230312T020000
TZOFFSETFROM:-0600
TZOFFSETTO:-0500
RDATE:20240310T020000
END:DAYLIGHT
END:VTIMEZONE
BEGIN:VEVENT
UID:f9eed331-a374-423f-8a92-c3bd3197e263
DTSTAMP:20260422T041959Z
DESCRIPTION:<b>Please Note: The Adult Mental Health First Aid course consis
 ts of two hours of self-paced content followed by 6.5 hours of instructor-
 led training. The self-paced computer training must be completed at least 
 three days prior to the beginning of the course and the one-hour self-pace
 d post session computer training must be completed as well in order for at
 tendees to obtain certification. Registration ends March 15 at 12 noon.</b
 >\n\nMental Health First Aid teaches you how to identify\, understand and 
 respond to signs of mental illness and substance use disorders. This train
 ing gives you the skills you need to reach out and provide initial support
  to someone who may be developing a mental health or substance use problem
  and help connect them to the appropriate care.\n\nWhat the Mental Health 
 First Aid Course offers:\n• Common signs and symptoms of mental illness\n•
  Common signs and symptoms of substance use\n• How to interact with a pers
 on in crisis\n• How to connect the person with help\n• Content on trauma\,
  addiction\, and self-care\n\nThe course will teach you how to apply the A
 LGEE action plan:\n• Assess for risk of suicide or harm.\n• Listen nonjudg
 mentally.\n• Give reassurance and information.\n• Encourage appropriate pr
 ofessional help.\n• Encourage self-help and other support strategies.\n\n<
 b>We're offering this session FREE of charge as part of Light & Unite Red 
 Week\, when dozens of partners across Milwaukee County join forces to prom
 ote healthy\, drug- and alcohol-free living and support our community memb
 ers who are improving their lives by remaining free of substance use and a
 chieving holistic wellness. Registration is required at the link below.</b
 >
DTSTART;TZID=America/Chicago:20230322T090000
DTEND;TZID=America/Chicago:20230322T160000
LOCATION:via Zoom
SUMMARY:Adult Mental Health First Aid | March 22\, 2023
END:VEVENT
END:VCALENDAR
