BEGIN:VCALENDAR
VERSION:2.0
PRODID:-//ppi.communityadvocates.net//NONSGML kigkonsult.se iCalcreator 2.3
 0.10//
CALSCALE:GREGORIAN
METHOD:PUBLISH
UID:e5393006-6f5a-420c-a54e-21c4d0e51bb8
X-WR-CALDESC:<b>This session is at capacity. Please check back soon for upc
 oming sessions in April and May.</b>\n\nWe can all save lives.\n\nThe QPR 
 mission is to reduce suicidal behaviors and save lives by providing innova
 tive\, practical and proven suicide prevention training. The signs of cris
 is are all around us. We believe that quality education empowers all peopl
 e\, regardless of their background\, to make a positive difference in the 
 life of someone they know.\n\nThis two-hour interactive introduction to su
 icide awareness and prevention will also cover statistics and intervention
  strategies.\n\n<b>We're offering this session FREE of charge as part of L
 ight & Unite Red Week\, when dozens of partners across Milwaukee County jo
 in forces to promote healthy\, drug- and alcohol-free living and support o
 ur community members who are improving their lives by remaining free of su
 bstance use and achieving holistic wellness. Registration is required at t
 he link below.</b>
X-WR-RELCALID:d7af214698fd87ff2864ed9131f3a475
X-WR-TIMEZONE:America/Chicago
BEGIN:VTIMEZONE
TZID:America/Chicago
BEGIN:STANDARD
TZNAME:CST
DTSTART:20221106T020000
TZOFFSETFROM:-0500
TZOFFSETTO:-0600
RDATE:20231105T020000
END:STANDARD
BEGIN:DAYLIGHT
TZNAME:CDT
DTSTART:20230312T020000
TZOFFSETFROM:-0600
TZOFFSETTO:-0500
RDATE:20240310T020000
END:DAYLIGHT
END:VTIMEZONE
BEGIN:VEVENT
UID:7f719944-85c2-4fb0-87c3-3707274e25a6
DTSTAMP:20260422T042237Z
DESCRIPTION:<b>This session is at capacity. Please check back soon for upco
 ming sessions in April and May.</b>\n\nWe can all save lives.\n\nThe QPR m
 ission is to reduce suicidal behaviors and save lives by providing innovat
 ive\, practical and proven suicide prevention training. The signs of crisi
 s are all around us. We believe that quality education empowers all people
 \, regardless of their background\, to make a positive difference in the l
 ife of someone they know.\n\nThis two-hour interactive introduction to sui
 cide awareness and prevention will also cover statistics and intervention 
 strategies.\n\n<b>We're offering this session FREE of charge as part of Li
 ght & Unite Red Week\, when dozens of partners across Milwaukee County joi
 n forces to promote healthy\, drug- and alcohol-free living and support ou
 r community members who are improving their lives by remaining free of sub
 stance use and achieving holistic wellness. Registration is required at th
 e link below.</b>
DTSTART;TZID=America/Chicago:20230321T100000
DTEND;TZID=America/Chicago:20230321T120000
LOCATION:via Zoom
SUMMARY:QPR Question Persuade Refer Suicide Prevention Training | March 21\
 , 2023
END:VEVENT
END:VCALENDAR
