BEGIN:VCALENDAR
VERSION:2.0
PRODID:-//ppi.communityadvocates.net//NONSGML kigkonsult.se iCalcreator 2.3
 0.10//
CALSCALE:GREGORIAN
METHOD:PUBLISH
UID:50afb645-ec8c-4817-b34a-f22286fce1cb
X-WR-CALDESC:<b>Registration has closed for this event. Thanks for your int
 erest!</b>\n\nAs a result of this workshop\, participants will gain a bett
 er understanding as to how trauma affects the brain\, discuss risk factors
  for substance use disorders\, and develop their strategy for intervention
  methods for a particular population.\n\nWhat we will discuss:\n+ Trauma d
 efinition\n+ How trauma affects the brain\n+ Statistics on substance use a
 nd ACEs\n+ Risk factors\n+ Strategies for care\nStress reducers\n+ Priorit
 izing Risk Factors\nBeginning a Call to Action\nWhat has your organization
  done and how has it worked?\n\n<b>We're offering this session FREE of cha
 rge as part of Light & Unite Red Week\, when dozens of partners across Mil
 waukee County join forces to promote healthy\, drug- and alcohol-free livi
 ng and support our community members who are improving their lives by rema
 ining free of substance use and achieving holistic wellness. Registration 
 is required at the link below.</b>
X-WR-RELCALID:69078be017e031bdcf83cacc9979d4a7
X-WR-TIMEZONE:America/Chicago
BEGIN:VTIMEZONE
TZID:America/Chicago
BEGIN:STANDARD
TZNAME:CST
DTSTART:20221106T020000
TZOFFSETFROM:-0500
TZOFFSETTO:-0600
RDATE:20231105T020000
END:STANDARD
BEGIN:DAYLIGHT
TZNAME:CDT
DTSTART:20230312T020000
TZOFFSETFROM:-0600
TZOFFSETTO:-0500
RDATE:20240310T020000
END:DAYLIGHT
END:VTIMEZONE
BEGIN:VEVENT
UID:0929ea7b-b262-435e-84e7-8ddfcfd0b17e
DTSTAMP:20260422T042319Z
DESCRIPTION:<b>Registration has closed for this event. Thanks for your inte
 rest!</b>\n\nAs a result of this workshop\, participants will gain a bette
 r understanding as to how trauma affects the brain\, discuss risk factors 
 for substance use disorders\, and develop their strategy for intervention 
 methods for a particular population.\n\nWhat we will discuss:\n+ Trauma de
 finition\n+ How trauma affects the brain\n+ Statistics on substance use an
 d ACEs\n+ Risk factors\n+ Strategies for care\nStress reducers\n+ Prioriti
 zing Risk Factors\nBeginning a Call to Action\nWhat has your organization 
 done and how has it worked?\n\n<b>We're offering this session FREE of char
 ge as part of Light & Unite Red Week\, when dozens of partners across Milw
 aukee County join forces to promote healthy\, drug- and alcohol-free livin
 g and support our community members who are improving their lives by remai
 ning free of substance use and achieving holistic wellness. Registration i
 s required at the link below.</b>
DTSTART;TZID=America/Chicago:20230320T100000
DTEND;TZID=America/Chicago:20230320T120000
LOCATION:via Zoom
SUMMARY:Trauma and the Brain: An Introduction | March 20\, 2023
END:VEVENT
END:VCALENDAR
