BEGIN:VCALENDAR
VERSION:2.0
PRODID:-//ppi.communityadvocates.net//NONSGML kigkonsult.se iCalcreator 2.3
 0.10//
CALSCALE:GREGORIAN
METHOD:PUBLISH
UID:b880583d-3158-4b46-b8a5-93e576435cf4
X-WR-CALDESC:The Empowerment Coalition of Milwaukee (ECOM) is a monthly gat
 hering of social services professionals\, advocates\, and consumers organi
 zed by Community Advocates Public Policy Institute. ECOM meets the third W
 ednesday of the month throughout the year (except December) and explores t
 opics that are vital to Milwaukee’s human services professionals. This mon
 th's topic is Milwaukee County Entitlements/W2/FSET Programs.\n\nFee is $5
  for light refreshments and materials and can be paid via credit card on t
 his page. Registrations are not refundable. Kindly make sure to RSVP by th
 e Friday prior to each meeting.
X-WR-RELCALID:4e5b0e5fdbf510f30e542064c329c516
X-WR-TIMEZONE:America/Chicago
BEGIN:VTIMEZONE
TZID:America/Chicago
BEGIN:STANDARD
TZNAME:CST
DTSTART:20221106T020000
TZOFFSETFROM:-0500
TZOFFSETTO:-0600
RDATE:20231105T020000
END:STANDARD
BEGIN:DAYLIGHT
TZNAME:CDT
DTSTART:20230312T020000
TZOFFSETFROM:-0600
TZOFFSETTO:-0500
RDATE:20240310T020000
END:DAYLIGHT
END:VTIMEZONE
BEGIN:VEVENT
UID:fd500ef2-c2a8-4164-8943-1d3b844fc0a9
DTSTAMP:20260422T040906Z
DESCRIPTION:The Empowerment Coalition of Milwaukee (ECOM) is a monthly gath
 ering of social services professionals\, advocates\, and consumers organiz
 ed by Community Advocates Public Policy Institute. ECOM meets the third We
 dnesday of the month throughout the year (except December) and explores to
 pics that are vital to Milwaukee’s human services professionals. This mont
 h's topic is Milwaukee County Entitlements/W2/FSET Programs.\n\nFee is $5 
 for light refreshments and materials and can be paid via credit card on th
 is page. Registrations are not refundable. Kindly make sure to RSVP by the
  Friday prior to each meeting.
DTSTART;TZID=America/Chicago:20230315T090000
DTEND;TZID=America/Chicago:20230315T120000
LOCATION:TBD
SUMMARY:ECOM Workshop: Milwaukee County Entitlements/W2/FSET Programs
END:VEVENT
END:VCALENDAR
