BEGIN:VCALENDAR
VERSION:2.0
PRODID:-//ppi.communityadvocates.net//NONSGML kigkonsult.se iCalcreator 2.3
 0.10//
CALSCALE:GREGORIAN
METHOD:PUBLISH
UID:7a8cbaf9-c744-4c98-9668-1242133be24c
X-WR-CALDESC:We are excited to announce that RISE Drug Free MKE is hosting 
 a discussion and virtual reality demonstration on how to save a life by re
 versing an opioid overdose. We hope that you will find the time to join us
  for this unique virtual event and learn how local agencies are collaborat
 ing to combat the opioid epidemic in our community.\n\nWalmart has develop
 ed a virtual reality tool to deliver a powerful experiential element to na
 loxone and overdose reversal trainings. RISE Drug Free MKE\, CADCA and Wal
 mart have partnered to bring key insights from local leaders directly to c
 ommunity members with this brief one-hour webinar event. As many communiti
 es face escalating overdose rates\, it has never been more important to kn
 ow how to save a life.
X-WR-RELCALID:adbc7133b20b1033ae128958ec04b661
X-WR-TIMEZONE:America/Chicago
BEGIN:VTIMEZONE
TZID:America/Chicago
BEGIN:STANDARD
TZNAME:CST
DTSTART:20221106T020000
TZOFFSETFROM:-0500
TZOFFSETTO:-0600
RDATE:20231105T020000
END:STANDARD
BEGIN:DAYLIGHT
TZNAME:CDT
DTSTART:20230312T020000
TZOFFSETFROM:-0600
TZOFFSETTO:-0500
RDATE:20240310T020000
END:DAYLIGHT
END:VTIMEZONE
BEGIN:VEVENT
UID:b067a5b2-8e7f-4c88-b409-e4fb62ee546a
DTSTAMP:20260422T040830Z
DESCRIPTION:We are excited to announce that RISE Drug Free MKE is hosting a
  discussion and virtual reality demonstration on how to save a life by rev
 ersing an opioid overdose. We hope that you will find the time to join us 
 for this unique virtual event and learn how local agencies are collaborati
 ng to combat the opioid epidemic in our community.\n\nWalmart has develope
 d a virtual reality tool to deliver a powerful experiential element to nal
 oxone and overdose reversal trainings. RISE Drug Free MKE\, CADCA and Walm
 art have partnered to bring key insights from local leaders directly to co
 mmunity members with this brief one-hour webinar event. As many communitie
 s face escalating overdose rates\, it has never been more important to kno
 w how to save a life.
DTSTART;TZID=America/Chicago:20230314T140000
DTEND;TZID=America/Chicago:20230314T150000
LOCATION:via Zoom
SUMMARY:Opioid Overdose Reversal Virtual Reality Demonstration
END:VEVENT
END:VCALENDAR
