BEGIN:VCALENDAR
VERSION:2.0
PRODID:-//ppi.communityadvocates.net//NONSGML kigkonsult.se iCalcreator 2.3
 0.10//
CALSCALE:GREGORIAN
METHOD:PUBLISH
UID:b3b3a9b8-15bd-43e3-8f59-9eca9adf76ce
X-WR-CALDESC:<b>++Registration has closed for this workshop. See you in Mar
 ch!</b>\n\nThe Empowerment Coalition of Milwaukee (ECOM) is a monthly gath
 ering of social services professionals\, advocates\, and consumers organiz
 ed by Community Advocates Public Policy Institute. ECOM meets the third We
 dnesday of the month throughout the year (except December) and explores to
 pics that are vital to Milwaukee’s human services professionals. February'
 s topic is Shelter/Warming Rooms & Housing Services.\n\nFee is $5 for ligh
 t refreshments and materials and can be paid via credit card on this page.
  Registrations are not refundable. Kindly make sure to RSVP by the Friday 
 prior to each meeting.
X-WR-RELCALID:9881cd49baa5797f831af386848e3880
X-WR-TIMEZONE:America/Chicago
BEGIN:VTIMEZONE
TZID:America/Chicago
BEGIN:STANDARD
TZNAME:CST
DTSTART:20221106T020000
TZOFFSETFROM:-0500
TZOFFSETTO:-0600
RDATE:20231105T020000
END:STANDARD
BEGIN:DAYLIGHT
TZNAME:CDT
DTSTART:20220313T020000
TZOFFSETFROM:-0600
TZOFFSETTO:-0500
RDATE:20230312T020000
RDATE:20240310T020000
END:DAYLIGHT
END:VTIMEZONE
BEGIN:VEVENT
UID:c63df7c8-cc54-4d86-908e-f26a4c22fa3f
DTSTAMP:20260422T030026Z
DESCRIPTION:<b>++Registration has closed for this workshop. See you in Marc
 h!</b>\n\nThe Empowerment Coalition of Milwaukee (ECOM) is a monthly gathe
 ring of social services professionals\, advocates\, and consumers organize
 d by Community Advocates Public Policy Institute. ECOM meets the third Wed
 nesday of the month throughout the year (except December) and explores top
 ics that are vital to Milwaukee’s human services professionals. February's
  topic is Shelter/Warming Rooms & Housing Services.\n\nFee is $5 for light
  refreshments and materials and can be paid via credit card on this page. 
 Registrations are not refundable. Kindly make sure to RSVP by the Friday p
 rior to each meeting.
DTSTART;TZID=America/Chicago:20230215T090000
DTEND;TZID=America/Chicago:20230215T120000
LOCATION:Community Advocates Second Floor Conference Room\, 728 N. James Lo
 vell St.\, Milwaukee\, WI 53233 US
SUMMARY:ECOM Workshop: Shelter/Warming Rooms & Housing Services
END:VEVENT
END:VCALENDAR
