BEGIN:VCALENDAR
VERSION:2.0
PRODID:-//ppi.communityadvocates.net//NONSGML kigkonsult.se iCalcreator 2.3
 0.10//
CALSCALE:GREGORIAN
METHOD:PUBLISH
UID:1c7bcd9d-e81a-48ca-b8e8-67cb86a89360
X-WR-CALDESC:<b>Class size is limited. All attendees are required to provid
 e a $25 deposit to reserve their spot in this course. The deposit will be 
 returned to those who attend and live or work in Milwaukee County. Those w
 ho do not attend\, or those who do not live or work in Milwaukee County\, 
 will not receive a refund.</b>\n\nDo you want to learn how to defuse a sit
 uation before it spirals out of control? Do you want to understand why and
  how conflict builds and what you can do to resolve it?\n\nDuring this two
 -hour virtual workshop\, you will learn how to increase safety by utilizin
 g verbal de-escalation techniques. Participants will explore foundational 
 information on how to reduce the level of conflict through self-knowledge\
 , understand how past experiences influence current behavior\, and practic
 e 10 tips of de-escalation. This workshop is aimed toward individuals who 
 encounter conflict in the workplace\, at home\, or in the community\, whet
 her you are a parent or educator\, work in the helping professions\, or ot
 herwise work with the public in potentially tense situations.\n
X-WR-RELCALID:57bbd1fe15eefba46ea29d86c3470db5
X-WR-TIMEZONE:America/Chicago
BEGIN:VTIMEZONE
TZID:America/Chicago
BEGIN:STANDARD
TZNAME:CST
DTSTART:20221106T020000
TZOFFSETFROM:-0500
TZOFFSETTO:-0600
RDATE:20231105T020000
END:STANDARD
BEGIN:DAYLIGHT
TZNAME:CDT
DTSTART:20220313T020000
TZOFFSETFROM:-0600
TZOFFSETTO:-0500
RDATE:20230312T020000
RDATE:20240310T020000
END:DAYLIGHT
END:VTIMEZONE
BEGIN:VEVENT
UID:cb8b8ab1-adcb-4c7c-9ab1-34a168a3c428
DTSTAMP:20260422T013909Z
DESCRIPTION:<b>Class size is limited. All attendees are required to provide
  a $25 deposit to reserve their spot in this course. The deposit will be r
 eturned to those who attend and live or work in Milwaukee County. Those wh
 o do not attend\, or those who do not live or work in Milwaukee County\, w
 ill not receive a refund.</b>\n\nDo you want to learn how to defuse a situ
 ation before it spirals out of control? Do you want to understand why and 
 how conflict builds and what you can do to resolve it?\n\nDuring this two-
 hour virtual workshop\, you will learn how to increase safety by utilizing
  verbal de-escalation techniques. Participants will explore foundational i
 nformation on how to reduce the level of conflict through self-knowledge\,
  understand how past experiences influence current behavior\, and practice
  10 tips of de-escalation. This workshop is aimed toward individuals who e
 ncounter conflict in the workplace\, at home\, or in the community\, wheth
 er you are a parent or educator\, work in the helping professions\, or oth
 erwise work with the public in potentially tense situations.\n
DTSTART;TZID=America/Chicago:20230126T100000
DTEND;TZID=America/Chicago:20230126T120000
LOCATION:via Zoom
SUMMARY:10 Tips to Reduce Conflict: Practical Verbal De-Escalation Techniqu
 es | January 26\, 2023
END:VEVENT
END:VCALENDAR
