BEGIN:VCALENDAR
VERSION:2.0
PRODID:-//ppi.communityadvocates.net//NONSGML kigkonsult.se iCalcreator 2.3
 0.10//
CALSCALE:GREGORIAN
METHOD:PUBLISH
UID:57786fb2-7dd2-43d8-bd9d-eba5cab5960a
X-WR-CALDESC:Happy Holidays! As ever\, we are grateful for your support and
  wish you a wonderful New Year. To observe the holidays\, our offices will
  be closed December 23 & 26\, and December 30 & January 2. For help with b
 asic needs\, contact Impact 2-1-1. Season's Greetings to you and yours!
X-WR-RELCALID:4af8b5f9012950c9d660a6cf804ebed8
X-WR-TIMEZONE:America/Chicago
BEGIN:VTIMEZONE
TZID:America/Chicago
BEGIN:STANDARD
TZNAME:CST
DTSTART:20221106T020000
TZOFFSETFROM:-0500
TZOFFSETTO:-0600
RDATE:20231105T020000
END:STANDARD
BEGIN:DAYLIGHT
TZNAME:CDT
DTSTART:20220313T020000
TZOFFSETFROM:-0600
TZOFFSETTO:-0500
RDATE:20230312T020000
RDATE:20240310T020000
END:DAYLIGHT
END:VTIMEZONE
BEGIN:VEVENT
UID:f8789df0-7d04-40d3-a97f-320575f068f1
DTSTAMP:20260422T003718Z
DESCRIPTION:Happy Holidays! As ever\, we are grateful for your support and 
 wish you a wonderful New Year. To observe the holidays\, our offices will 
 be closed December 23 & 26\, and December 30 & January 2. For help with ba
 sic needs\, contact Impact 2-1-1. Season's Greetings to you and yours!
DTSTART;TZID=America/Chicago:20221223T000000
DTEND;TZID=America/Chicago:20221223T235900
LOCATION:
SUMMARY:Holiday Closure
END:VEVENT
END:VCALENDAR
