BEGIN:VCALENDAR
VERSION:2.0
PRODID:-//ppi.communityadvocates.net//NONSGML kigkonsult.se iCalcreator 2.3
 0.10//
CALSCALE:GREGORIAN
METHOD:PUBLISH
UID:666e7c04-43af-4c0e-9ec1-ba66f0b937ee
X-WR-CALDESC:<b>Please Note: The Youth Mental Health First Aid course consi
 sts of two hours of self-paced content followed by 4.5 hours of instructor
 -led training. The self-paced computer training must be completed at least
  three days prior to the beginning of the course and the one-hour self-pac
 ed post session computer training must be completed as well in order for a
 ttendees to obtain certification. Registration ends November 11.\n\nAll at
 tendees are required to provide a $25 deposit to reserve their spot in thi
 s course. The deposit will be returned to those who attend and live or wor
 k in Milwaukee County. Those who do not attend\, or those who do not live 
 or work in Milwaukee County\, will not receive a refund.</b>\n\nYouth Ment
 al Health First Aid is designed to teach parents\, family members\, caregi
 vers\, teachers\, school staff\, peers\, neighbors\, health and human serv
 ices workers\, and other caring citizens how to help an adolescent (age 12
 -18) who is experiencing a mental health or addictions challenge or is in 
 crisis.\n\nThe course introduces common mental health challenges for youth
 \, reviews typical adolescent development\, and teaches a 5-step action pl
 an for how to help young people in both crisis and non-crisis situations.
 \n\nTopics covered include:\n+ Anxiety\n+ Depression\n+ Substance use\n+ D
 isorders in which psychosis may occur\n+ Disruptive behavior disorders (in
 cluding AD/HD)\n+ Eating disorders\n
X-WR-RELCALID:69624f7e3682e5edca8bd92eede18db1
X-WR-TIMEZONE:America/Chicago
BEGIN:VTIMEZONE
TZID:America/Chicago
BEGIN:STANDARD
TZNAME:CST
DTSTART:20221106T020000
TZOFFSETFROM:-0500
TZOFFSETTO:-0600
RDATE:20231105T020000
END:STANDARD
BEGIN:DAYLIGHT
TZNAME:CDT
DTSTART:20220313T020000
TZOFFSETFROM:-0600
TZOFFSETTO:-0500
RDATE:20230312T020000
RDATE:20240310T020000
END:DAYLIGHT
END:VTIMEZONE
BEGIN:VEVENT
UID:f72dba9c-49c4-490d-ae57-3866848e9c34
DTSTAMP:20260421T230205Z
DESCRIPTION:<b>Please Note: The Youth Mental Health First Aid course consis
 ts of two hours of self-paced content followed by 4.5 hours of instructor-
 led training. The self-paced computer training must be completed at least 
 three days prior to the beginning of the course and the one-hour self-pace
 d post session computer training must be completed as well in order for at
 tendees to obtain certification. Registration ends November 11.\n\nAll att
 endees are required to provide a $25 deposit to reserve their spot in this
  course. The deposit will be returned to those who attend and live or work
  in Milwaukee County. Those who do not attend\, or those who do not live o
 r work in Milwaukee County\, will not receive a refund.</b>\n\nYouth Menta
 l Health First Aid is designed to teach parents\, family members\, caregiv
 ers\, teachers\, school staff\, peers\, neighbors\, health and human servi
 ces workers\, and other caring citizens how to help an adolescent (age 12-
 18) who is experiencing a mental health or addictions challenge or is in c
 risis.\n\nThe course introduces common mental health challenges for youth\
 , reviews typical adolescent development\, and teaches a 5-step action pla
 n for how to help young people in both crisis and non-crisis situations.\n
 \nTopics covered include:\n+ Anxiety\n+ Depression\n+ Substance use\n+ Dis
 orders in which psychosis may occur\n+ Disruptive behavior disorders (incl
 uding AD/HD)\n+ Eating disorders\n
DTSTART;TZID=America/Chicago:20221118T090000
DTEND;TZID=America/Chicago:20221118T153000
LOCATION:via Zoom
SUMMARY:Youth Mental Health First Aid | November 18\, 2022
END:VEVENT
END:VCALENDAR
