BEGIN:VCALENDAR
VERSION:2.0
PRODID:-//ppi.communityadvocates.net//NONSGML kigkonsult.se iCalcreator 2.3
 0.10//
CALSCALE:GREGORIAN
METHOD:PUBLISH
UID:6b41ffa9-853a-4ce9-9227-d9db512339e6
X-WR-CALDESC:<b>Class size is limited. All attendees are required to provid
 e a $25 deposit to reserve their spot in this course. The deposit will be 
 returned to those who attend and live or work in Milwaukee County. Those w
 ho do not attend\, or those who do not live or work in Milwaukee County\, 
 will not receive a refund.</b>\n\nChallenges at work\, home\, in relations
 hips\, and in society can leave us feeling sad\, hurt\, disconnected\, fru
 strated\, or even angry. Research shows that mindfulness and gratitude can
  help us cope with difficulties and improve mental\, emotional\, and physi
 cal health. But how do we put mindfulness and gratitude into practice? Sho
 w yourself some TLC\, and attend a Mindful Gratitude workshop to find out!
  The Mindful Gratitude Workshop offers a safe and supportive environment f
 or you to relax\, recharge\, and reconnect with your joy and purpose!\n\nY
 ou will also receive a gift bag crafted by Mindful Gratitude!\n\nLearn ski
 lls to help you:\n• See the unique beauty in your life\, even on the hard 
 days\n• Stay calm\, even in difficult situations\n• Stay centered\, even i
 n a fast changing world\n\nParticipants receive:\n• Journal\, pen\, and st
 icker gift set\n• Online follow-up session to discuss barriers & breakthro
 ughs!\n\nThis workshop is for you if you:\n• Want to find more joy and mea
 ning in your everyday life\n• Want to improve your sense of wellbeing\n• S
 ometimes feel overwhelmed by work\, family\, relationships\, and responsib
 ilities.\n\n'Be present in all things\, and be grateful for all things.”~ 
 Maya Angelou\n\nAll attendees are required to provide a $25 deposit to res
 erve their spot in this course. The deposit will be returned to those who 
 attend and live or work in Milwaukee County. Those who do not attend\, or 
 those who do not live or work in Milwaukee County\, will not receive a ref
 und. If you need help with your deposit\, kindly contact Gloria Marfo at t
 he email below.
X-WR-RELCALID:9e83cb7902b690986d2148297ebebb79
X-WR-TIMEZONE:America/Chicago
BEGIN:VTIMEZONE
TZID:America/Chicago
BEGIN:STANDARD
TZNAME:CST
DTSTART:20211107T020000
TZOFFSETFROM:-0500
TZOFFSETTO:-0600
RDATE:20221106T020000
RDATE:20231105T020000
END:STANDARD
BEGIN:DAYLIGHT
TZNAME:CDT
DTSTART:20220313T020000
TZOFFSETFROM:-0600
TZOFFSETTO:-0500
RDATE:20230312T020000
RDATE:20240310T020000
END:DAYLIGHT
END:VTIMEZONE
BEGIN:VEVENT
UID:05558a20-f8bd-4ba8-bdd0-9e94d76334a2
DTSTAMP:20260421T230435Z
DESCRIPTION:<b>Class size is limited. All attendees are required to provide
  a $25 deposit to reserve their spot in this course. The deposit will be r
 eturned to those who attend and live or work in Milwaukee County. Those wh
 o do not attend\, or those who do not live or work in Milwaukee County\, w
 ill not receive a refund.</b>\n\nChallenges at work\, home\, in relationsh
 ips\, and in society can leave us feeling sad\, hurt\, disconnected\, frus
 trated\, or even angry. Research shows that mindfulness and gratitude can 
 help us cope with difficulties and improve mental\, emotional\, and physic
 al health. But how do we put mindfulness and gratitude into practice? Show
  yourself some TLC\, and attend a Mindful Gratitude workshop to find out! 
 The Mindful Gratitude Workshop offers a safe and supportive environment fo
 r you to relax\, recharge\, and reconnect with your joy and purpose!\n\nYo
 u will also receive a gift bag crafted by Mindful Gratitude!\n\nLearn skil
 ls to help you:\n• See the unique beauty in your life\, even on the hard d
 ays\n• Stay calm\, even in difficult situations\n• Stay centered\, even in
  a fast changing world\n\nParticipants receive:\n• Journal\, pen\, and sti
 cker gift set\n• Online follow-up session to discuss barriers & breakthrou
 ghs!\n\nThis workshop is for you if you:\n• Want to find more joy and mean
 ing in your everyday life\n• Want to improve your sense of wellbeing\n• So
 metimes feel overwhelmed by work\, family\, relationships\, and responsibi
 lities.\n\n'Be present in all things\, and be grateful for all things.”~ M
 aya Angelou\n\nAll attendees are required to provide a $25 deposit to rese
 rve their spot in this course. The deposit will be returned to those who a
 ttend and live or work in Milwaukee County. Those who do not attend\, or t
 hose who do not live or work in Milwaukee County\, will not receive a refu
 nd. If you need help with your deposit\, kindly contact Gloria Marfo at th
 e email below.
DTSTART;TZID=America/Chicago:20221102T180000
DTEND;TZID=America/Chicago:20221102T190000
LOCATION:Community Advocates\, 728 N. James Lovell St.\, 2nd Floor\, MILWAU
 KEE\, WI 53233 US
SUMMARY:Mindful Gratitude Workshop | November 2\, 2022
END:VEVENT
END:VCALENDAR
