BEGIN:VCALENDAR
VERSION:2.0
PRODID:-//ppi.communityadvocates.net//NONSGML kigkonsult.se iCalcreator 2.3
 0.10//
CALSCALE:GREGORIAN
METHOD:PUBLISH
UID:e31e48c8-df29-4b8c-a579-90a6919f82e2
X-WR-CALDESC:Community Advocates Public Policy Institute is proud to be par
 t of my24’s Friday Night Rivals High School Football programming this fall
 . The season will run through October 14 with a lot of great match-ups of 
 regional football teams. Look for a community partner doing outreach at ea
 ch game\, plus an on-screen interview for those watching at home or stream
 ing wherever you are.\n\nGames will be broadcast live each Friday night on
  My24 with the action on the gridiron starting at 7pm. The broadcast prese
 ntations will be available via livestream on My24Milwaukee.com. Fans can a
 lso catch an encore of each week's broadcast on Saturdays on My24. The ent
 ire season's worth of games will then live on as well on demand online.
X-WR-RELCALID:b92ad4e7d2a0b9da7852a45d04306532
X-WR-TIMEZONE:America/Chicago
BEGIN:VTIMEZONE
TZID:America/Chicago
BEGIN:STANDARD
TZNAME:CST
DTSTART:20211107T020000
TZOFFSETFROM:-0500
TZOFFSETTO:-0600
RDATE:20221106T020000
RDATE:20231105T020000
END:STANDARD
BEGIN:DAYLIGHT
TZNAME:CDT
DTSTART:20220313T020000
TZOFFSETFROM:-0600
TZOFFSETTO:-0500
RDATE:20230312T020000
RDATE:20240310T020000
END:DAYLIGHT
END:VTIMEZONE
BEGIN:VEVENT
UID:d5ec3266-8c55-4223-80b5-e12c9458de7b
DTSTAMP:20260421T214817Z
DESCRIPTION:Community Advocates Public Policy Institute is proud to be part
  of my24’s Friday Night Rivals High School Football programming this fall.
  The season will run through October 14 with a lot of great match-ups of r
 egional football teams. Look for a community partner doing outreach at eac
 h game\, plus an on-screen interview for those watching at home or streami
 ng wherever you are.\n\nGames will be broadcast live each Friday night on 
 My24 with the action on the gridiron starting at 7pm. The broadcast presen
 tations will be available via livestream on My24Milwaukee.com. Fans can al
 so catch an encore of each week's broadcast on Saturdays on My24. The enti
 re season's worth of games will then live on as well on demand online.
DTSTART;TZID=America/Chicago:20221007T190000
DTEND;TZID=America/Chicago:20221007T210000
LOCATION:Menomonee Falls High School\, N80W14350 Titan Dr\, Menomonee Falls
 \, WI 53051 US
SUMMARY:Friday Night Rivals: Sussex Hamilton Chargers @ Menomonee Falls Pho
 enix
END:VEVENT
END:VCALENDAR
