BEGIN:VCALENDAR
VERSION:2.0
PRODID:-//ppi.communityadvocates.net//NONSGML kigkonsult.se iCalcreator 2.3
 0.10//
CALSCALE:GREGORIAN
METHOD:PUBLISH
UID:c0f44e77-10fd-43ad-bf50-2daa7f2105d0
X-WR-CALDESC:Partnership for Success-19 partners are invited to attend this
  quarterly meeting. Contact Kira Hankins for details.
X-WR-RELCALID:a785ed63b2a5b01cf2379e3b440fc8bc
X-WR-TIMEZONE:America/Chicago
BEGIN:VTIMEZONE
TZID:America/Chicago
BEGIN:STANDARD
TZNAME:CST
DTSTART:20211107T020000
TZOFFSETFROM:-0500
TZOFFSETTO:-0600
RDATE:20221106T020000
RDATE:20231105T020000
END:STANDARD
BEGIN:DAYLIGHT
TZNAME:CDT
DTSTART:20220313T020000
TZOFFSETFROM:-0600
TZOFFSETTO:-0500
RDATE:20230312T020000
RDATE:20240310T020000
END:DAYLIGHT
END:VTIMEZONE
BEGIN:VEVENT
UID:73d3e218-98df-4fcc-a260-73a5b24344f7
DTSTAMP:20260421T220123Z
DESCRIPTION:Partnership for Success-19 partners are invited to attend this 
 quarterly meeting. Contact Kira Hankins for details.
DTSTART;TZID=America/Chicago:20221005T090000
DTEND;TZID=America/Chicago:20221005T100000
LOCATION:via Zoom
SUMMARY:PFS-19 Partner Meeting
END:VEVENT
END:VCALENDAR
