BEGIN:VCALENDAR
VERSION:2.0
PRODID:-//ppi.communityadvocates.net//NONSGML kigkonsult.se iCalcreator 2.3
 0.10//
CALSCALE:GREGORIAN
METHOD:PUBLISH
UID:3f25d69d-8c27-4b03-b1e0-ef10270037cc
X-WR-CALDESC:Community Advocates Public Policy Institute is proud to be par
 t of my24’s Friday Night Rivals High School Football programming this fall
 . The season will run through October 14 with a lot of great match-ups of 
 regional football teams. Look for a community partner doing outreach at ea
 ch game\, plus an on-screen interview for those watching at home or stream
 ing wherever you are.\n\nGames will be broadcast live each Friday night on
  My24 with the action on the gridiron starting at 7pm. The broadcast prese
 ntations will be available via livestream on My24Milwaukee.com. Fans can a
 lso catch an encore of each week's broadcast on Saturdays on My24. The ent
 ire season's worth of games will then live on as well on demand online.
X-WR-RELCALID:f97c7d6ea7daf7ec075328ebffdadddb
X-WR-TIMEZONE:America/Chicago
BEGIN:VTIMEZONE
TZID:America/Chicago
BEGIN:STANDARD
TZNAME:CST
DTSTART:20211107T020000
TZOFFSETFROM:-0500
TZOFFSETTO:-0600
RDATE:20221106T020000
RDATE:20231105T020000
END:STANDARD
BEGIN:DAYLIGHT
TZNAME:CDT
DTSTART:20220313T020000
TZOFFSETFROM:-0600
TZOFFSETTO:-0500
RDATE:20230312T020000
RDATE:20240310T020000
END:DAYLIGHT
END:VTIMEZONE
BEGIN:VEVENT
UID:7e234fbe-a1a1-4ebd-81f1-4700bb2ca74b
DTSTAMP:20260420T192434Z
DESCRIPTION:Community Advocates Public Policy Institute is proud to be part
  of my24’s Friday Night Rivals High School Football programming this fall.
  The season will run through October 14 with a lot of great match-ups of r
 egional football teams. Look for a community partner doing outreach at eac
 h game\, plus an on-screen interview for those watching at home or streami
 ng wherever you are.\n\nGames will be broadcast live each Friday night on 
 My24 with the action on the gridiron starting at 7pm. The broadcast presen
 tations will be available via livestream on My24Milwaukee.com. Fans can al
 so catch an encore of each week's broadcast on Saturdays on My24. The enti
 re season's worth of games will then live on as well on demand online.
DTSTART;TZID=America/Chicago:20220923T190000
DTEND;TZID=America/Chicago:20220923T210000
LOCATION:Nicolet High School\, 6701 N Jean Nicolet Rd\, Glendale\, WI 53217
  US
SUMMARY:Friday Night Rivals: West Bend West Spartans @ Nicolet Knights
END:VEVENT
END:VCALENDAR
