BEGIN:VCALENDAR
VERSION:2.0
PRODID:-//ppi.communityadvocates.net//NONSGML kigkonsult.se iCalcreator 2.3
 0.10//
CALSCALE:GREGORIAN
METHOD:PUBLISH
UID:d8ecd6da-4e83-497b-afc2-f9a0bebcf357
X-WR-CALDESC:All are welcome to attend the Policy Committee of the Milwauke
 e Child Abuse Prevention Services Coalition\, coordinated by the Public Po
 licy Institute. It meets the second Monday of every month.
X-WR-RELCALID:313661be8f0c8925aa59cb3a165700ef
X-WR-TIMEZONE:America/Chicago
BEGIN:VTIMEZONE
TZID:America/Chicago
BEGIN:STANDARD
TZNAME:CST
DTSTART:20201101T020000
TZOFFSETFROM:-0500
TZOFFSETTO:-0600
RDATE:20211107T020000
END:STANDARD
BEGIN:DAYLIGHT
TZNAME:CDT
DTSTART:20200308T020000
TZOFFSETFROM:-0600
TZOFFSETTO:-0500
RDATE:20210314T020000
RDATE:20220313T020000
END:DAYLIGHT
END:VTIMEZONE
BEGIN:VEVENT
UID:66cbe329-94d9-4b6c-99fb-00eb36904839
DTSTAMP:20260420T060259Z
DESCRIPTION:All are welcome to attend the Policy Committee of the Milwaukee
  Child Abuse Prevention Services Coalition\, coordinated by the Public Pol
 icy Institute. It meets the second Monday of every month.
DTSTART;TZID=America/Chicago:20201109T143000
DTEND;TZID=America/Chicago:20201109T163000
LOCATION:United Way of Greater Milwaukee and Waukesha County\, 225 W. Vine 
 St.\, Milwaukee
SUMMARY:MCAPS Public Policy Committee
END:VEVENT
END:VCALENDAR
