BEGIN:VCALENDAR
VERSION:2.0
PRODID:-//ppi.communityadvocates.net//NONSGML kigkonsult.se iCalcreator 2.3
 0.10//
CALSCALE:GREGORIAN
METHOD:PUBLISH
UID:fe8e5d22-2c73-41e6-84e1-4224b1e6e038
X-WR-CALDESC:The Holistic Health for Women Virtual Resource Fair provides t
 ools and strategies women can use to achieve mental health and wellness.Th
 is is a safe space for people who identify as women to ask questions\, sha
 re stories and learn practical ways to achieve emotional\, mental\, physic
 al\, spiritual and reproductive wellness. Male identifying individuals are
  welcomed to gain a greater understanding of how they can better support a
 ll women in their lives. Participants of all identities can ask questions 
 and provide resources that relate to the health and wellness of women iden
 tifying people. \n\n\nJoin us for more information\, to ask questions\, an
 d to take advantage of our resources. The time is now to support women wit
 h finding health and wellness.\n\nPresenters:\nSerita Valmond\nKristin Bel
 kofer\nKay'La Mumford \n\nThe presentations and Q&As will be recorded and 
 broadcast live on Facebook for future viewing. For your protection\, you c
 an choose not to share your screen and/or name during the event. \n\nPleas
 e contact Jeremy Triblett if you have concerns about being recorded.\n
X-WR-RELCALID:e8da90860ffe8398b9df8c6d765251cf
X-WR-TIMEZONE:America/Chicago
BEGIN:VTIMEZONE
TZID:America/Chicago
BEGIN:STANDARD
TZNAME:CST
DTSTART:20191103T020000
TZOFFSETFROM:-0500
TZOFFSETTO:-0600
RDATE:20201101T020000
RDATE:20211107T020000
END:STANDARD
BEGIN:DAYLIGHT
TZNAME:CDT
DTSTART:20200308T020000
TZOFFSETFROM:-0600
TZOFFSETTO:-0500
RDATE:20210314T020000
RDATE:20220313T020000
END:DAYLIGHT
END:VTIMEZONE
BEGIN:VEVENT
UID:568f14ff-8af8-4079-a207-02f0a79badb8
DTSTAMP:20260420T120806Z
DESCRIPTION:The Holistic Health for Women Virtual Resource Fair provides to
 ols and strategies women can use to achieve mental health and wellness.Thi
 s is a safe space for people who identify as women to ask questions\, shar
 e stories and learn practical ways to achieve emotional\, mental\, physica
 l\, spiritual and reproductive wellness. Male identifying individuals are 
 welcomed to gain a greater understanding of how they can better support al
 l women in their lives. Participants of all identities can ask questions a
 nd provide resources that relate to the health and wellness of women ident
 ifying people. \n\n\nJoin us for more information\, to ask questions\, and
  to take advantage of our resources. The time is now to support women with
  finding health and wellness.\n\nPresenters:\nSerita Valmond\nKristin Belk
 ofer\nKay'La Mumford \n\nThe presentations and Q&As will be recorded and b
 roadcast live on Facebook for future viewing. For your protection\, you ca
 n choose not to share your screen and/or name during the event. \n\nPlease
  contact Jeremy Triblett if you have concerns about being recorded.\n
DTSTART;TZID=America/Chicago:20200923T163000
DTEND;TZID=America/Chicago:20200923T173000
LOCATION:Online via Zoom & Facebook Live
SUMMARY:MCSAP Mental Health and Wellness Virtual Resource Fair: Holistic He
 alth for Women Virtual Resource Fair
END:VEVENT
END:VCALENDAR
