BEGIN:VCALENDAR
VERSION:2.0
PRODID:-//ppi.communityadvocates.net//NONSGML kigkonsult.se iCalcreator 2.3
 0.10//
CALSCALE:GREGORIAN
METHOD:PUBLISH
UID:6125f7e8-98bb-435b-8273-606d609d1426
X-WR-CALDESC:QPR stands for Question\, Persuade\, and Refer — the three sim
 ple steps anyone can learn to help save a life from suicide. The QPR missi
 on is to reduce suicidal behaviors and save lives by providing innovative\
 , practical and proven suicide prevention training. This training will be 
 held from 9 to 11 a.m. on Monday\, September 21\, on Zoom\, and is provide
 d free of charge thanks to a ReCAST MKE grant from the City of Milwaukee O
 ffice of Violence Prevention and a partnership with Community Advocates Pu
 blic Policy Institute.
X-WR-RELCALID:dade86d53abea1b7c9d78ca59295f081
X-WR-TIMEZONE:America/Chicago
BEGIN:VTIMEZONE
TZID:America/Chicago
BEGIN:STANDARD
TZNAME:CST
DTSTART:20191103T020000
TZOFFSETFROM:-0500
TZOFFSETTO:-0600
RDATE:20201101T020000
RDATE:20211107T020000
END:STANDARD
BEGIN:DAYLIGHT
TZNAME:CDT
DTSTART:20200308T020000
TZOFFSETFROM:-0600
TZOFFSETTO:-0500
RDATE:20210314T020000
RDATE:20220313T020000
END:DAYLIGHT
END:VTIMEZONE
BEGIN:VEVENT
UID:4c304c45-22bd-44cf-8acb-2a7a2432ee96
DTSTAMP:20260420T120940Z
DESCRIPTION:QPR stands for Question\, Persuade\, and Refer — the three simp
 le steps anyone can learn to help save a life from suicide. The QPR missio
 n is to reduce suicidal behaviors and save lives by providing innovative\,
  practical and proven suicide prevention training. This training will be h
 eld from 9 to 11 a.m. on Monday\, September 21\, on Zoom\, and is provided
  free of charge thanks to a ReCAST MKE grant from the City of Milwaukee Of
 fice of Violence Prevention and a partnership with Community Advocates Pub
 lic Policy Institute.
DTSTART;TZID=America/Chicago:20200921T090000
DTEND;TZID=America/Chicago:20200921T110000
LOCATION:Online Training Via Zoom
SUMMARY:QPR Suicide Prevention Training
END:VEVENT
END:VCALENDAR
