BEGIN:VCALENDAR
VERSION:2.0
PRODID:-//ppi.communityadvocates.net//NONSGML kigkonsult.se iCalcreator 2.3
 0.10//
CALSCALE:GREGORIAN
METHOD:PUBLISH
UID:ce2b27f9-c91b-41f9-9bdc-5d2a801800a6
X-WR-CALDESC:Members of the MCSAP coalition will meet from noon to 2:30 p.m
 . Interested in attending? Contact us at the link below.
X-WR-RELCALID:8d5087a34d322ed2a5bb5c7e99f5dec8
X-WR-TIMEZONE:America/Chicago
BEGIN:VTIMEZONE
TZID:America/Chicago
BEGIN:STANDARD
TZNAME:CST
DTSTART:20191103T020000
TZOFFSETFROM:-0500
TZOFFSETTO:-0600
RDATE:20201101T020000
RDATE:20211107T020000
END:STANDARD
BEGIN:DAYLIGHT
TZNAME:CDT
DTSTART:20200308T020000
TZOFFSETFROM:-0600
TZOFFSETTO:-0500
RDATE:20210314T020000
RDATE:20220313T020000
END:DAYLIGHT
END:VTIMEZONE
BEGIN:VEVENT
UID:a08ae783-f16e-4d56-9156-800253dab612
DTSTAMP:20260420T122825Z
DESCRIPTION:Members of the MCSAP coalition will meet from noon to 2:30 p.m.
  Interested in attending? Contact us at the link below.
DTSTART;TZID=America/Chicago:20200917T120000
DTEND;TZID=America/Chicago:20200917T143000
LOCATION:Online meeting
SUMMARY:MCSAP Coalition Meeting
END:VEVENT
END:VCALENDAR
