BEGIN:VCALENDAR
VERSION:2.0
PRODID:-//ppi.communityadvocates.net//NONSGML kigkonsult.se iCalcreator 2.3
 0.10//
CALSCALE:GREGORIAN
METHOD:PUBLISH
UID:9dd41391-f4e2-405c-b31c-ba61b2b80b2a
X-WR-CALDESC:Did you know some Milwaukee residents are exposed to twice as 
 much tobacco marketing compared to residents of the surrounding suburbs?\n
 \nFind out where Assembly District 8 Candidates Sylvia Ortiz-Velez (D) & A
 ngel Sanchez (R) stand on issues related to creating healthy\ncommunities\
 , including substance abuse\, tobacco\, and COVID-19.  This forum is an op
 portunity for the public to ask questions of the\ncandidates in a moderate
 d setting.\n \nThis event is co-hosted by the Hispanic Tobacco Prevention 
 Network of Wisconsin and the City of Milwaukee Tobacco-Free Alliance.\n\nW
 atch on Facebook Live:\n@UMOSHealth\n@CityOfMilwaukeeTobaccoFreeAlliance\n
 \nAverigua donde están los candidatos del Distrito 8 de la Asamblea\, Sylv
 ia Ortiz-Velez (D) & Angel Sanchez (R)\, en temas relacionados al\ncrear c
 omunidades saludables\, incluyendo el abuso de sustancias\, tabaco y el CO
 VID-19.\n\nEl foro es una oportunidad para que el público haga preguntas a
  los candidatos en un ambiente moderado.\n\nVealo en vivo por Facebook:\n@
 UMOSHealth\n@CityOfMilwaukeeTobaccoFreeAlliance\n
X-WR-RELCALID:60bcba33af7523d0ebfe6e056170978e
X-WR-TIMEZONE:America/Chicago
BEGIN:VTIMEZONE
TZID:America/Chicago
BEGIN:STANDARD
TZNAME:CST
DTSTART:20191103T020000
TZOFFSETFROM:-0500
TZOFFSETTO:-0600
RDATE:20201101T020000
RDATE:20211107T020000
END:STANDARD
BEGIN:DAYLIGHT
TZNAME:CDT
DTSTART:20200308T020000
TZOFFSETFROM:-0600
TZOFFSETTO:-0500
RDATE:20210314T020000
RDATE:20220313T020000
END:DAYLIGHT
END:VTIMEZONE
BEGIN:VEVENT
UID:8860221d-d382-41e1-a691-88296a6371cb
DTSTAMP:20260422T094804Z
DESCRIPTION:Did you know some Milwaukee residents are exposed to twice as m
 uch tobacco marketing compared to residents of the surrounding suburbs?\n
 \nFind out where Assembly District 8 Candidates Sylvia Ortiz-Velez (D) & A
 ngel Sanchez (R) stand on issues related to creating healthy\ncommunities\
 , including substance abuse\, tobacco\, and COVID-19.  This forum is an op
 portunity for the public to ask questions of the\ncandidates in a moderate
 d setting.\n \nThis event is co-hosted by the Hispanic Tobacco Prevention 
 Network of Wisconsin and the City of Milwaukee Tobacco-Free Alliance.\n\nW
 atch on Facebook Live:\n@UMOSHealth\n@CityOfMilwaukeeTobaccoFreeAlliance\n
 \nAverigua donde están los candidatos del Distrito 8 de la Asamblea\, Sylv
 ia Ortiz-Velez (D) & Angel Sanchez (R)\, en temas relacionados al\ncrear c
 omunidades saludables\, incluyendo el abuso de sustancias\, tabaco y el CO
 VID-19.\n\nEl foro es una oportunidad para que el público haga preguntas a
  los candidatos en un ambiente moderado.\n\nVealo en vivo por Facebook:\n@
 UMOSHealth\n@CityOfMilwaukeeTobaccoFreeAlliance\n
DTSTART;TZID=America/Chicago:20200917T173000
DTEND;TZID=America/Chicago:20200917T180000
LOCATION:https://conta.cc/350WyOM
SUMMARY:Assembly District 8 Virtual Candidate Forum
END:VEVENT
END:VCALENDAR
