BEGIN:VCALENDAR
VERSION:2.0
PRODID:-//ppi.communityadvocates.net//NONSGML kigkonsult.se iCalcreator 2.3
 0.10//
CALSCALE:GREGORIAN
METHOD:PUBLISH
UID:751b0e38-98fb-4c0d-98ee-0b71c211a8a9
X-WR-CALDESC:QPR stands for Question\, Persuade\, and Refer — the three sim
 ple steps anyone can learn to help save a life from suicide. The QPR missi
 on is to reduce suicidal behaviors and save lives by providing innovative\
 , practical and proven suicide prevention training. This training will be 
 held from 11 a.m. to 1 p.m. on Thursday\, September 10\, on Zoom\, and is 
 provided free of charge thanks to a ReCAST MKE grant from the City of Milw
 aukee Office of Violence Prevention and a partnership with Community Advoc
 ates Public Policy Institute.
X-WR-RELCALID:9c7faebde876a7a189a423730aceed96
X-WR-TIMEZONE:America/Chicago
BEGIN:VTIMEZONE
TZID:America/Chicago
BEGIN:STANDARD
TZNAME:CST
DTSTART:20191103T020000
TZOFFSETFROM:-0500
TZOFFSETTO:-0600
RDATE:20201101T020000
RDATE:20211107T020000
END:STANDARD
BEGIN:DAYLIGHT
TZNAME:CDT
DTSTART:20200308T020000
TZOFFSETFROM:-0600
TZOFFSETTO:-0500
RDATE:20210314T020000
END:DAYLIGHT
END:VTIMEZONE
BEGIN:VEVENT
UID:68194479-fc7b-4454-b7d9-0e61f9f3b95c
DTSTAMP:20260420T123435Z
DESCRIPTION:QPR stands for Question\, Persuade\, and Refer — the three simp
 le steps anyone can learn to help save a life from suicide. The QPR missio
 n is to reduce suicidal behaviors and save lives by providing innovative\,
  practical and proven suicide prevention training. This training will be h
 eld from 11 a.m. to 1 p.m. on Thursday\, September 10\, on Zoom\, and is p
 rovided free of charge thanks to a ReCAST MKE grant from the City of Milwa
 ukee Office of Violence Prevention and a partnership with Community Advoca
 tes Public Policy Institute.
DTSTART;TZID=America/Chicago:20200910T110000
DTEND;TZID=America/Chicago:20200910T130000
LOCATION:Online Training Via Zoom
SUMMARY:QPR Suicide Prevention Training
END:VEVENT
END:VCALENDAR
