BEGIN:VCALENDAR
VERSION:2.0
PRODID:-//ppi.communityadvocates.net//NONSGML kigkonsult.se iCalcreator 2.3
 0.10//
CALSCALE:GREGORIAN
METHOD:PUBLISH
UID:6673048d-beb0-46b6-8b9f-2a69119f36b3
X-WR-CALDESC:Community Advocates' offices will be closed Monday\, September
  7\, to observe Labor Day. We will be back in touch with you on Tuesday\, 
 September 8.
X-WR-RELCALID:770949ed227414250814f770811a2be9
X-WR-TIMEZONE:America/Chicago
BEGIN:VTIMEZONE
TZID:America/Chicago
BEGIN:STANDARD
TZNAME:CST
DTSTART:20191103T020000
TZOFFSETFROM:-0500
TZOFFSETTO:-0600
RDATE:20201101T020000
RDATE:20211107T020000
END:STANDARD
BEGIN:DAYLIGHT
TZNAME:CDT
DTSTART:20200308T020000
TZOFFSETFROM:-0600
TZOFFSETTO:-0500
RDATE:20210314T020000
END:DAYLIGHT
END:VTIMEZONE
BEGIN:VEVENT
UID:5190f995-b496-46a1-9739-d29959ad18d5
DTSTAMP:20260420T122126Z
DESCRIPTION:Community Advocates' offices will be closed Monday\, September 
 7\, to observe Labor Day. We will be back in touch with you on Tuesday\, S
 eptember 8.
DTSTART;TZID=America/Chicago:20200907T000000
DTEND;TZID=America/Chicago:20200907T235900
LOCATION:
SUMMARY:Labor Day
END:VEVENT
END:VCALENDAR
