BEGIN:VCALENDAR
VERSION:2.0
PRODID:-//ppi.communityadvocates.net//NONSGML kigkonsult.se iCalcreator 2.3
 0.10//
CALSCALE:GREGORIAN
METHOD:PUBLISH
UID:148533b1-978a-4df9-ac66-ee1a034e8684
X-WR-CALDESC:The Milwaukee County Substance Abuse Prevention coalition has 
 launched a series of virtual resource fairs focused on mental health and w
 ellness. MCSAP’s Mental Health and Wellness Virtual Fairs connect mental h
 ealth professionals and alternative health practitioners with marginalized
  communities of Milwaukee County because MCSAP believes that holistic heal
 th is a basic right and works to break systemic barriers that create acces
 s disparities for all people.\n\nThe sessions are available live on Zoom a
 nd on MCSAP’s Facebook page\, and we’ll also archive them on Facebook so t
 hat you can watch them anytime. The next session will address youth mental
  health and wellness and is targeted to youth work professionals\, parents
 \, and caregivers. Keynote speaker Brooks Griffin will be joined by Sheryl
  Dean\, Dr. Alhaji Camara\, and Mickell Daniels. MCSAP’s Youth Mental Heal
 th Virtual Resource Fair will be held from 6:15 to 7:30 p.m. on Wednesday\
 , August 26. Register here for the Zoom at the link below. \n
X-WR-RELCALID:65336dff75782541e4808d4aea831146
X-WR-TIMEZONE:America/Chicago
BEGIN:VTIMEZONE
TZID:America/Chicago
BEGIN:STANDARD
TZNAME:CST
DTSTART:20191103T020000
TZOFFSETFROM:-0500
TZOFFSETTO:-0600
RDATE:20201101T020000
RDATE:20211107T020000
END:STANDARD
BEGIN:DAYLIGHT
TZNAME:CDT
DTSTART:20200308T020000
TZOFFSETFROM:-0600
TZOFFSETTO:-0500
RDATE:20210314T020000
END:DAYLIGHT
END:VTIMEZONE
BEGIN:VEVENT
UID:bddad7fe-2b9f-4ef8-8590-6e8685d52878
DTSTAMP:20260420T134034Z
DESCRIPTION:The Milwaukee County Substance Abuse Prevention coalition has l
 aunched a series of virtual resource fairs focused on mental health and we
 llness. MCSAP’s Mental Health and Wellness Virtual Fairs connect mental he
 alth professionals and alternative health practitioners with marginalized 
 communities of Milwaukee County because MCSAP believes that holistic healt
 h is a basic right and works to break systemic barriers that create access
  disparities for all people.\n\nThe sessions are available live on Zoom an
 d on MCSAP’s Facebook page\, and we’ll also archive them on Facebook so th
 at you can watch them anytime. The next session will address youth mental 
 health and wellness and is targeted to youth work professionals\, parents\
 , and caregivers. Keynote speaker Brooks Griffin will be joined by Sheryl 
 Dean\, Dr. Alhaji Camara\, and Mickell Daniels. MCSAP’s Youth Mental Healt
 h Virtual Resource Fair will be held from 6:15 to 7:30 p.m. on Wednesday\,
  August 26. Register here for the Zoom at the link below. \n
DTSTART;TZID=America/Chicago:20200826T181500
DTEND;TZID=America/Chicago:20200826T193000
LOCATION:Online Training Via Zoom
SUMMARY:MCSAP Mental Health & Wellness Series: Youth Mental Health Resource
  Fair
END:VEVENT
END:VCALENDAR
