BEGIN:VCALENDAR
VERSION:2.0
PRODID:-//ppi.communityadvocates.net//NONSGML kigkonsult.se iCalcreator 2.3
 0.10//
CALSCALE:GREGORIAN
METHOD:PUBLISH
UID:66e7ee4e-1d57-4ed9-8ba9-9ea913b4ef39
X-WR-CALDESC:Do you have someone to talk to when your mind is racing and yo
 u have a lot of thoughts? Have you been feeling lots of emotions with no w
 ay of expressing them? You're not alone! All of us will experience racing 
 thoughts and strong emotions at some point in our lives. They are normal a
 nd nothing to be ashamed of. If you want to be connected to professionals 
 trained to listen and ready to support\, join us August 12 at 2 p.m.!\n\nP
 resenters are Octavia Manuel-Wright\, Lauren M. Todd\, and Scott Thomas\; 
 it's sponsored by the Milwaukee County Substance Abuse Prevention Coalitio
 n (MCSAP) along with Community Advocates Public Policy Institute\, Light &
  Unite RED\,  Balanced Mental Health & Wellness LLC\, and Comprehensive We
 llness. \n\nTo participate on Zoom\, RSVP below. The event will also be li
 vestreamed on MCSAP's Facebook page.
X-WR-RELCALID:b8499147a2f72fdd76116bef32a2f911
X-WR-TIMEZONE:America/Chicago
BEGIN:VTIMEZONE
TZID:America/Chicago
BEGIN:STANDARD
TZNAME:CST
DTSTART:20191103T020000
TZOFFSETFROM:-0500
TZOFFSETTO:-0600
RDATE:20201101T020000
RDATE:20211107T020000
END:STANDARD
BEGIN:DAYLIGHT
TZNAME:CDT
DTSTART:20200308T020000
TZOFFSETFROM:-0600
TZOFFSETTO:-0500
RDATE:20210314T020000
END:DAYLIGHT
END:VTIMEZONE
BEGIN:VEVENT
UID:b7a6a2a6-906f-4994-b235-40583fef19af
DTSTAMP:20260420T134034Z
DESCRIPTION:Do you have someone to talk to when your mind is racing and you
  have a lot of thoughts? Have you been feeling lots of emotions with no wa
 y of expressing them? You're not alone! All of us will experience racing t
 houghts and strong emotions at some point in our lives. They are normal an
 d nothing to be ashamed of. If you want to be connected to professionals t
 rained to listen and ready to support\, join us August 12 at 2 p.m.!\n\nPr
 esenters are Octavia Manuel-Wright\, Lauren M. Todd\, and Scott Thomas\; i
 t's sponsored by the Milwaukee County Substance Abuse Prevention Coalition
  (MCSAP) along with Community Advocates Public Policy Institute\, Light & 
 Unite RED\,  Balanced Mental Health & Wellness LLC\, and Comprehensive Wel
 lness. \n\nTo participate on Zoom\, RSVP below. The event will also be liv
 estreamed on MCSAP's Facebook page.
DTSTART;TZID=America/Chicago:20200812T140000
DTEND;TZID=America/Chicago:20200812T150000
LOCATION:Virtual Event on Zoom and Facebook Live
SUMMARY:MCSAP Mental Health and Wellness Virtual Resource Fair: Taking Care
  of Our Minds
END:VEVENT
END:VCALENDAR
