BEGIN:VCALENDAR
VERSION:2.0
PRODID:-//ppi.communityadvocates.net//NONSGML kigkonsult.se iCalcreator 2.3
 0.10//
CALSCALE:GREGORIAN
METHOD:PUBLISH
UID:3ce84b08-c13e-4a94-b476-0b541a197427
X-WR-CALDESC:On Tuesday\, August 11\, Community Advocates Public Policy Ins
 titute will host Dr. Erin Winkler from UW-Milwaukee for an Implicit Bias t
 raining. Dr. Winkler is an Associate Professor in the College of Letters a
 nd Science and focuses on African and African Diaspora Studies. Dr. Winkle
 r’s research interests include racial socialization\; racial identity deve
 lopment in African American families and communities\; the impact of gende
 r\, skin tone\, and other demographic factors on racial identity developme
 nt and responses to racism\; and the effect of place on shaping conceptual
 izations and experiences of race and racism.\n\nThis training is offered f
 ree via Zoom and registration is required.\n\nIt will not be recorded and 
 space is limited\, so please RSVP only if you can attend the training live
 \, as it happens.\n\nDetails will be emailed to attendees with meeting acc
 ess instructions.
X-WR-RELCALID:55e8361c618ff05d546c477e8c37b0b9
X-WR-TIMEZONE:America/Chicago
BEGIN:VTIMEZONE
TZID:America/Chicago
BEGIN:STANDARD
TZNAME:CST
DTSTART:20191103T020000
TZOFFSETFROM:-0500
TZOFFSETTO:-0600
RDATE:20201101T020000
RDATE:20211107T020000
END:STANDARD
BEGIN:DAYLIGHT
TZNAME:CDT
DTSTART:20200308T020000
TZOFFSETFROM:-0600
TZOFFSETTO:-0500
RDATE:20210314T020000
END:DAYLIGHT
END:VTIMEZONE
BEGIN:VEVENT
UID:a7ca4982-471b-4a9a-b539-ed1d4c01e47e
DTSTAMP:20260420T133326Z
DESCRIPTION:On Tuesday\, August 11\, Community Advocates Public Policy Inst
 itute will host Dr. Erin Winkler from UW-Milwaukee for an Implicit Bias tr
 aining. Dr. Winkler is an Associate Professor in the College of Letters an
 d Science and focuses on African and African Diaspora Studies. Dr. Winkler
 ’s research interests include racial socialization\; racial identity devel
 opment in African American families and communities\; the impact of gender
 \, skin tone\, and other demographic factors on racial identity developmen
 t and responses to racism\; and the effect of place on shaping conceptuali
 zations and experiences of race and racism.\n\nThis training is offered fr
 ee via Zoom and registration is required.\n\nIt will not be recorded and s
 pace is limited\, so please RSVP only if you can attend the training live\
 , as it happens.\n\nDetails will be emailed to attendees with meeting acce
 ss instructions.
DTSTART;TZID=America/Chicago:20200811T130000
DTEND;TZID=America/Chicago:20200811T143000
LOCATION:Online Training Via Zoom
SUMMARY:Implicit Bias Training
END:VEVENT
END:VCALENDAR
