BEGIN:VCALENDAR
VERSION:2.0
PRODID:-//ppi.communityadvocates.net//NONSGML kigkonsult.se iCalcreator 2.3
 0.10//
CALSCALE:GREGORIAN
METHOD:PUBLISH
UID:a0d5fff4-71e1-49ec-91ee-102fd8ade569
X-WR-CALDESC:Youth Mental Health First Aid is primarily designed for adults
  who regularly interact with young people. The course introduces common me
 ntal health challenges for youth\, reviews typical adolescent development\
 , and teaches a 5-step action plan for how to help young people in both cr
 isis and non-crisis situations. Topics include anxiety\, depression\, subs
 tance use\, disorders in which psychosis may occur\, disruptive behavior d
 isorders (including AD/HD)\, and eating disorders. This training will be h
 eld from 1 to 5 p.m. on Friday\, July 31\, on Zoom\, and is provided free 
 of charge thanks to a ReCAST MKE grant from the City of Milwaukee Office o
 f Violence Prevention and a partnership with Community Advocates Public Po
 licy Institute.
X-WR-RELCALID:f821e1a928055d08d8321c62cf075477
X-WR-TIMEZONE:America/Chicago
BEGIN:VTIMEZONE
TZID:America/Chicago
BEGIN:STANDARD
TZNAME:CST
DTSTART:20191103T020000
TZOFFSETFROM:-0500
TZOFFSETTO:-0600
RDATE:20201101T020000
RDATE:20211107T020000
END:STANDARD
BEGIN:DAYLIGHT
TZNAME:CDT
DTSTART:20200308T020000
TZOFFSETFROM:-0600
TZOFFSETTO:-0500
RDATE:20210314T020000
END:DAYLIGHT
END:VTIMEZONE
BEGIN:VEVENT
UID:d284ef23-c223-4bd0-8d09-bc571eb4e167
DTSTAMP:20260420T145811Z
DESCRIPTION:Youth Mental Health First Aid is primarily designed for adults 
 who regularly interact with young people. The course introduces common men
 tal health challenges for youth\, reviews typical adolescent development\,
  and teaches a 5-step action plan for how to help young people in both cri
 sis and non-crisis situations. Topics include anxiety\, depression\, subst
 ance use\, disorders in which psychosis may occur\, disruptive behavior di
 sorders (including AD/HD)\, and eating disorders. This training will be he
 ld from 1 to 5 p.m. on Friday\, July 31\, on Zoom\, and is provided free o
 f charge thanks to a ReCAST MKE grant from the City of Milwaukee Office of
  Violence Prevention and a partnership with Community Advocates Public Pol
 icy Institute.
DTSTART;TZID=America/Chicago:20200731T130000
DTEND;TZID=America/Chicago:20200731T170000
LOCATION:Online Training Via Zoom
SUMMARY:Virtual Youth Mental Health First Aid
END:VEVENT
END:VCALENDAR
