BEGIN:VCALENDAR
VERSION:2.0
PRODID:-//ppi.communityadvocates.net//NONSGML kigkonsult.se iCalcreator 2.3
 0.10//
CALSCALE:GREGORIAN
METHOD:PUBLISH
UID:5e515487-6666-4aec-b72f-60ee5768ccc8
X-WR-CALDESC:Organized by the City of Milwaukee Tobacco-Free Alliance\, hea
 r from speakers from Wisconsin Department of Health Services and Children'
 s Wisconsin as theycover current data\, an overview of products\, differen
 ces in regulations\, and an overview of the lung injury outbreak\, or EVAL
 I.
X-WR-RELCALID:a693b47557f8ffd41e2e466fdc5fc0a9
X-WR-TIMEZONE:America/Chicago
BEGIN:VTIMEZONE
TZID:America/Chicago
BEGIN:STANDARD
TZNAME:CST
DTSTART:20191103T020000
TZOFFSETFROM:-0500
TZOFFSETTO:-0600
RDATE:20201101T020000
RDATE:20211107T020000
END:STANDARD
BEGIN:DAYLIGHT
TZNAME:CDT
DTSTART:20200308T020000
TZOFFSETFROM:-0600
TZOFFSETTO:-0500
RDATE:20210314T020000
END:DAYLIGHT
END:VTIMEZONE
BEGIN:VEVENT
UID:c11c71ae-a8ed-4eb0-b07d-a9dff5cf2ced
DTSTAMP:20260420T150113Z
DESCRIPTION:Organized by the City of Milwaukee Tobacco-Free Alliance\, hear
  from speakers from Wisconsin Department of Health Services and Children's
  Wisconsin as theycover current data\, an overview of products\, differenc
 es in regulations\, and an overview of the lung injury outbreak\, or EVALI
 .
DTSTART;TZID=America/Chicago:20200729T130000
DTEND;TZID=America/Chicago:20200729T140000
LOCATION:Online via GoTo Meeting
SUMMARY:E-Cigarette Webinar
END:VEVENT
END:VCALENDAR
