BEGIN:VCALENDAR
VERSION:2.0
PRODID:-//ppi.communityadvocates.net//NONSGML kigkonsult.se iCalcreator 2.3
 0.10//
CALSCALE:GREGORIAN
METHOD:PUBLISH
UID:2c66a833-b34b-4fff-b153-fbc2efa28730
X-WR-CALDESC:QPR stands for Question\, Persuade\, and Refer — the three sim
 ple steps anyone can learn to help save a life from suicide. The QPR missi
 on is to reduce suicidal behaviors and save lives by providing innovative\
 , practical and proven suicide prevention training. This training will be 
 held from 10 a.m. to 12 noon on Monday\, July 27\, on Zoom\, and is provid
 ed free of charge thanks to a ReCAST MKE grant from the City of Milwaukee 
 Office of Violence Prevention and a partnership with Community Advocates P
 ublic Policy Institute.
X-WR-RELCALID:cf0e6de238adcc54f67832873e727500
X-WR-TIMEZONE:America/Chicago
BEGIN:VTIMEZONE
TZID:America/Chicago
BEGIN:STANDARD
TZNAME:CST
DTSTART:20191103T020000
TZOFFSETFROM:-0500
TZOFFSETTO:-0600
RDATE:20201101T020000
RDATE:20211107T020000
END:STANDARD
BEGIN:DAYLIGHT
TZNAME:CDT
DTSTART:20200308T020000
TZOFFSETFROM:-0600
TZOFFSETTO:-0500
RDATE:20210314T020000
END:DAYLIGHT
END:VTIMEZONE
BEGIN:VEVENT
UID:9b5d7b4b-f37c-4376-b05f-f7894b9674f4
DTSTAMP:20260420T150349Z
DESCRIPTION:QPR stands for Question\, Persuade\, and Refer — the three simp
 le steps anyone can learn to help save a life from suicide. The QPR missio
 n is to reduce suicidal behaviors and save lives by providing innovative\,
  practical and proven suicide prevention training. This training will be h
 eld from 10 a.m. to 12 noon on Monday\, July 27\, on Zoom\, and is provide
 d free of charge thanks to a ReCAST MKE grant from the City of Milwaukee O
 ffice of Violence Prevention and a partnership with Community Advocates Pu
 blic Policy Institute.
DTSTART;TZID=America/Chicago:20200727T100000
DTEND;TZID=America/Chicago:20200727T120000
LOCATION:Online Training Via Zoom
SUMMARY:QPR Suicide Prevention Training
END:VEVENT
END:VCALENDAR
