BEGIN:VCALENDAR
VERSION:2.0
PRODID:-//ppi.communityadvocates.net//NONSGML kigkonsult.se iCalcreator 2.3
 0.10//
CALSCALE:GREGORIAN
METHOD:PUBLISH
UID:30c0307a-9a6a-46ad-b403-7d9e7bfca16a
X-WR-CALDESC:Community Advocates Public Policy Institute's offices will be 
 closed on Friday\, July 3\, to observe the Fourth of July. We'll be back i
 n touch with you on Monday.
X-WR-RELCALID:75760feed690276046bb4daba5b4541f
X-WR-TIMEZONE:America/Chicago
BEGIN:VTIMEZONE
TZID:America/Chicago
BEGIN:STANDARD
TZNAME:CST
DTSTART:20191103T020000
TZOFFSETFROM:-0500
TZOFFSETTO:-0600
RDATE:20201101T020000
RDATE:20211107T020000
END:STANDARD
BEGIN:DAYLIGHT
TZNAME:CDT
DTSTART:20200308T020000
TZOFFSETFROM:-0600
TZOFFSETTO:-0500
RDATE:20210314T020000
END:DAYLIGHT
END:VTIMEZONE
BEGIN:VEVENT
UID:75a38ff1-a79b-465a-9404-5409de518885
DTSTAMP:20260420T145750Z
DESCRIPTION:Community Advocates Public Policy Institute's offices will be c
 losed on Friday\, July 3\, to observe the Fourth of July. We'll be back in
  touch with you on Monday.
DTSTART;TZID=America/Chicago:20200703T000000
DTEND;TZID=America/Chicago:20200703T235900
LOCATION:
SUMMARY:Fourth of July Observed
END:VEVENT
END:VCALENDAR
