BEGIN:VCALENDAR
VERSION:2.0
PRODID:-//ppi.communityadvocates.net//NONSGML kigkonsult.se iCalcreator 2.3
 0.10//
CALSCALE:GREGORIAN
METHOD:PUBLISH
UID:5a4b282b-294a-4ac7-b899-5aa35641e3cd
X-WR-CALDESC:The Reentry Support Training equips residents and service prov
 iders with tools to support previously incarcerated youth and adults in re
 entering the community. Many families find their loved ones returning to p
 rison while on probation and parole. In Wisconsin\, this cycle disproporti
 onately impacts black and brown youth and adults. The Public Policy Instit
 ute designed this training to help communities interrupt the cycle of reci
 divism through resource coordination and relationship building related to 
 housing\, health\, education and employment.\n\nTraining participants will
 :\n\n•	Review statistics and data to increase knowledge of incarceration an
 d recidivism in Wisconsin.\n\n•	Discuss the barriers and opportunities for 
 supporting previously incarcerated people reentering the community.\n\n•	Re
 ceive reentry resources on housing\, medical care\, employment and educati
 on for youth and adults.\n\n•	Understand how incarceration has disproportio
 nately impacted black and brown youth and adults.\n\nThis training is base
 d on evidence-informed practices and provides a completion certificate. Pa
 rticipants will be given 48 hours to complete the online feedback form bef
 ore they receive their certificates of completion.\n\n<b>++Due to the COVI
 D-19 public health emergency\, this training will be conducted on Zoom. Cl
 ick on the link below to register.++</b>\n\nThis training is sponsored by 
 ReCast MKE through the City of Milwaukee Office of Violence Prevention in 
 partnership with Community Advocates Public Policy Institute.
X-WR-RELCALID:624afc1624505f8824dcdbbd0fa4e6dc
X-WR-TIMEZONE:America/Chicago
BEGIN:VTIMEZONE
TZID:America/Chicago
BEGIN:STANDARD
TZNAME:CST
DTSTART:20191103T020000
TZOFFSETFROM:-0500
TZOFFSETTO:-0600
RDATE:20201101T020000
RDATE:20211107T020000
END:STANDARD
BEGIN:DAYLIGHT
TZNAME:CDT
DTSTART:20200308T020000
TZOFFSETFROM:-0600
TZOFFSETTO:-0500
RDATE:20210314T020000
END:DAYLIGHT
END:VTIMEZONE
BEGIN:VEVENT
UID:a0dc418a-99de-440a-b45a-8991570f820d
DTSTAMP:20260420T173957Z
DESCRIPTION:The Reentry Support Training equips residents and service provi
 ders with tools to support previously incarcerated youth and adults in ree
 ntering the community. Many families find their loved ones returning to pr
 ison while on probation and parole. In Wisconsin\, this cycle disproportio
 nately impacts black and brown youth and adults. The Public Policy Institu
 te designed this training to help communities interrupt the cycle of recid
 ivism through resource coordination and relationship building related to h
 ousing\, health\, education and employment.\n\nTraining participants will:
 \n\n•	Review statistics and data to increase knowledge of incarceration and
  recidivism in Wisconsin.\n\n•	Discuss the barriers and opportunities for s
 upporting previously incarcerated people reentering the community.\n\n•	Rec
 eive reentry resources on housing\, medical care\, employment and educatio
 n for youth and adults.\n\n•	Understand how incarceration has disproportion
 ately impacted black and brown youth and adults.\n\nThis training is based
  on evidence-informed practices and provides a completion certificate. Par
 ticipants will be given 48 hours to complete the online feedback form befo
 re they receive their certificates of completion.\n\n<b>++Due to the COVID
 -19 public health emergency\, this training will be conducted on Zoom. Cli
 ck on the link below to register.++</b>\n\nThis training is sponsored by R
 eCast MKE through the City of Milwaukee Office of Violence Prevention in p
 artnership with Community Advocates Public Policy Institute.
DTSTART;TZID=America/Chicago:20200526T100000
DTEND;TZID=America/Chicago:20200526T120000
LOCATION:Online Training Via Zoom
SUMMARY:Reentry Support Webinar
END:VEVENT
END:VCALENDAR
