BEGIN:VCALENDAR
VERSION:2.0
PRODID:-//ppi.communityadvocates.net//NONSGML kigkonsult.se iCalcreator 2.3
 0.10//
CALSCALE:GREGORIAN
METHOD:PUBLISH
UID:228817cb-ebcd-462a-86cf-7c9e89f938aa
X-WR-CALDESC:Canaries in the Coal Mine provides a close look at the impacts
  of health disparities among diverse racial/ethnic groups in the US and ho
 w these affect COVID-19 illness and deaths today. We will examine the hist
 orical and contemporary factors that created and maintain shockingly wide 
 – and often lethal – gaps in health and healthcare.\n\nThese factors inclu
 de the racial wealth gaps\, poverty\, food deserts\, and environmental pol
 lution that result from residential segregation. Such stressful conditions
  contribute to higher rates of heart and lung diseases\, diabetes and obes
 ity in the African American and other marginalized communities\, leading t
 o more severe illness and much higher death rates from COVID-19. The avail
 ability and quality of medical care is seriously affected by two additiona
 l factors: the well-researched unconscious bias within the predominantly w
 hite medical community and distrust\, particularly within the black commun
 ity\, based on historical mistreatment\, including experimentation on the 
 enslaved\, the historical desecration of graves for medical cadavers\, and
  the infamous Tuskegee Syphilis Experiment. Finally\, we look at the criti
 cal urgency of correcting these disparities to improve the health of the e
 ntire US public – during the current pandemic and beyond.\n\nWhat are cana
 ries in the coal mine? It’s a saying that refers to the caged canary birds
  that miners used to carry. If dangerous gases like carbon monoxide collec
 ted in the mine\, these would kill the canaries before killing the miners\
 , thus providing a warning to exit the mines immediately.\n\nCanaries in t
 he Coal Mine is presented by Reggie Jackson\, a much sought-after speaker 
 and writers for over a decade. Reggie specializes in sharing seldom-told s
 tories and facts about the experiences of African-Americans and other peop
 les of color\, past and present. He is a Co-Founder and Lead Trainer/Consu
 ltant for Nurturing Diversity Partners\, a consulting firm that fosters di
 versity\, inclusion\, and equity within institutions and communities.\n\nC
 anaries in the Coal Mine is sponsored by Community Advocates Public Policy
  Institute\, which works toward preventing and reducing poverty while impr
 oving the quality of life for individuals and families in Milwaukee and th
 roughout Wisconsin.\n\nThis presentation will be hosted on Zoom. Space is 
 limited and registration is required. RSVP now so you can join us on May 2
 6.\n\n\n\n
X-WR-RELCALID:c3b8aee007314ec64a955f8233272ea9
X-WR-TIMEZONE:America/Chicago
BEGIN:VTIMEZONE
TZID:America/Chicago
BEGIN:STANDARD
TZNAME:CST
DTSTART:20191103T020000
TZOFFSETFROM:-0500
TZOFFSETTO:-0600
RDATE:20201101T020000
RDATE:20211107T020000
END:STANDARD
BEGIN:DAYLIGHT
TZNAME:CDT
DTSTART:20200308T020000
TZOFFSETFROM:-0600
TZOFFSETTO:-0500
RDATE:20210314T020000
END:DAYLIGHT
END:VTIMEZONE
BEGIN:VEVENT
UID:1c860a9d-bf5c-4370-b647-72c1aa7e09a7
DTSTAMP:20260420T173813Z
DESCRIPTION:Canaries in the Coal Mine provides a close look at the impacts 
 of health disparities among diverse racial/ethnic groups in the US and how
  these affect COVID-19 illness and deaths today. We will examine the histo
 rical and contemporary factors that created and maintain shockingly wide –
  and often lethal – gaps in health and healthcare.\n\nThese factors includ
 e the racial wealth gaps\, poverty\, food deserts\, and environmental poll
 ution that result from residential segregation. Such stressful conditions 
 contribute to higher rates of heart and lung diseases\, diabetes and obesi
 ty in the African American and other marginalized communities\, leading to
  more severe illness and much higher death rates from COVID-19. The availa
 bility and quality of medical care is seriously affected by two additional
  factors: the well-researched unconscious bias within the predominantly wh
 ite medical community and distrust\, particularly within the black communi
 ty\, based on historical mistreatment\, including experimentation on the e
 nslaved\, the historical desecration of graves for medical cadavers\, and 
 the infamous Tuskegee Syphilis Experiment. Finally\, we look at the critic
 al urgency of correcting these disparities to improve the health of the en
 tire US public – during the current pandemic and beyond.\n\nWhat are canar
 ies in the coal mine? It’s a saying that refers to the caged canary birds 
 that miners used to carry. If dangerous gases like carbon monoxide collect
 ed in the mine\, these would kill the canaries before killing the miners\,
  thus providing a warning to exit the mines immediately.\n\nCanaries in th
 e Coal Mine is presented by Reggie Jackson\, a much sought-after speaker a
 nd writers for over a decade. Reggie specializes in sharing seldom-told st
 ories and facts about the experiences of African-Americans and other peopl
 es of color\, past and present. He is a Co-Founder and Lead Trainer/Consul
 tant for Nurturing Diversity Partners\, a consulting firm that fosters div
 ersity\, inclusion\, and equity within institutions and communities.\n\nCa
 naries in the Coal Mine is sponsored by Community Advocates Public Policy 
 Institute\, which works toward preventing and reducing poverty while impro
 ving the quality of life for individuals and families in Milwaukee and thr
 oughout Wisconsin.\n\nThis presentation will be hosted on Zoom. Space is l
 imited and registration is required. RSVP now so you can join us on May 26
 .\n\n\n\n
DTSTART;TZID=America/Chicago:20200526T090000
DTEND;TZID=America/Chicago:20200526T113000
LOCATION:Online Training Via Zoom
SUMMARY:Canaries in the Coal Mine: Attending to Racial Health Disparities i
 n the Age of COVID-19 Webinar
END:VEVENT
END:VCALENDAR
