BEGIN:VCALENDAR
VERSION:2.0
PRODID:-//ppi.communityadvocates.net//NONSGML kigkonsult.se iCalcreator 2.3
 0.10//
CALSCALE:GREGORIAN
METHOD:PUBLISH
UID:99661311-b549-4984-96e6-90a27492565f
X-WR-CALDESC:Members of the MCSAP coalition will meet from noon to 2:30 p.m
 . Interested in participating? Contact us at the link below.
X-WR-RELCALID:47ba9b0b0f1674baa22b94c76a03890b
X-WR-TIMEZONE:America/Chicago
BEGIN:VTIMEZONE
TZID:America/Chicago
BEGIN:STANDARD
TZNAME:CST
DTSTART:20191103T020000
TZOFFSETFROM:-0500
TZOFFSETTO:-0600
RDATE:20201101T020000
RDATE:20211107T020000
END:STANDARD
BEGIN:DAYLIGHT
TZNAME:CDT
DTSTART:20200308T020000
TZOFFSETFROM:-0600
TZOFFSETTO:-0500
RDATE:20210314T020000
END:DAYLIGHT
END:VTIMEZONE
BEGIN:VEVENT
UID:6abf9f49-c7d6-46fb-85c0-cde3c26120b7
DTSTAMP:20260420T174136Z
DESCRIPTION:Members of the MCSAP coalition will meet from noon to 2:30 p.m.
  Interested in participating? Contact us at the link below.
DTSTART;TZID=America/Chicago:20200521T120000
DTEND;TZID=America/Chicago:20200521T143000
LOCATION:
SUMMARY:MCSAP Coalition Meeting
END:VEVENT
END:VCALENDAR
