BEGIN:VCALENDAR
VERSION:2.0
PRODID:-//ppi.communityadvocates.net//NONSGML kigkonsult.se iCalcreator 2.3
 0.10//
CALSCALE:GREGORIAN
METHOD:PUBLISH
UID:2967f943-b07f-4ade-b653-c8089f8d8c94
X-WR-CALDESC:The QPR mission is to reduce suicidal behaviors and save lives
  by providing innovative\, practical and proven suicide prevention trainin
 g. The signs of crisis are all around us. We believe that quality educatio
 n empowers all people\, regardless of their background\, to make a positiv
 e difference in the life of someone they know. QPR stands for Question\, P
 ersuade\, and Refer — the 3 simple steps anyone can learn to help save a l
 ife from suicide.\n\nTraining Participants will learn the QPR Chain Of Sur
 vival Elements: \n\nEARLY RECOGNITION OF SUICIDE: The sooner warning signs
  are detected and help sought\, the better the outcome of a suicidal crisi
 s will be.\n\nEARLY QPR: Asking someone about the presence of suicidal tho
 ughts and feelings opens up a conversation that may lead to a referral for
  help.\n\nEARLY INTERVENTION AND REFERRAL: Referral to local resources or 
 calling 1-800-Suicide for evaluation and possible referral is critical.\n
 \nEARLY ADVANCED LIFE SUPPORT: As with any illness\, early detection and t
 reatment results in better outcomes.\n\nThis training is based on evidence
 -informed practices and provides a completion certificate. Participants wi
 ll be given 48 hours to complete the online feedback form before they rece
 ive their certificates of completion. \n\n<b>++Due to the COVID-19 public 
 health emergency\, this training will be conducted on Zoom. Please RSVP no
 w at the link below.++</b>\n\nThis training is sponsored by ReCast MKE thr
 ough the City of Milwaukee Office of Violence Prevention in partnership wi
 th Community Advocates Public Policy Institute. \n
X-WR-RELCALID:ff781f910b6a272e933d0829a1137b9f
X-WR-TIMEZONE:America/Chicago
BEGIN:VTIMEZONE
TZID:America/Chicago
BEGIN:STANDARD
TZNAME:CST
DTSTART:20191103T020000
TZOFFSETFROM:-0500
TZOFFSETTO:-0600
RDATE:20201101T020000
RDATE:20211107T020000
END:STANDARD
BEGIN:DAYLIGHT
TZNAME:CDT
DTSTART:20200308T020000
TZOFFSETFROM:-0600
TZOFFSETTO:-0500
RDATE:20210314T020000
END:DAYLIGHT
END:VTIMEZONE
BEGIN:VEVENT
UID:fdf8cc74-805f-43e9-a552-a954abec639a
DTSTAMP:20260420T173718Z
DESCRIPTION:The QPR mission is to reduce suicidal behaviors and save lives 
 by providing innovative\, practical and proven suicide prevention training
 . The signs of crisis are all around us. We believe that quality education
  empowers all people\, regardless of their background\, to make a positive
  difference in the life of someone they know. QPR stands for Question\, Pe
 rsuade\, and Refer — the 3 simple steps anyone can learn to help save a li
 fe from suicide.\n\nTraining Participants will learn the QPR Chain Of Surv
 ival Elements: \n\nEARLY RECOGNITION OF SUICIDE: The sooner warning signs 
 are detected and help sought\, the better the outcome of a suicidal crisis
  will be.\n\nEARLY QPR: Asking someone about the presence of suicidal thou
 ghts and feelings opens up a conversation that may lead to a referral for 
 help.\n\nEARLY INTERVENTION AND REFERRAL: Referral to local resources or c
 alling 1-800-Suicide for evaluation and possible referral is critical.\n\n
 EARLY ADVANCED LIFE SUPPORT: As with any illness\, early detection and tre
 atment results in better outcomes.\n\nThis training is based on evidence-i
 nformed practices and provides a completion certificate. Participants will
  be given 48 hours to complete the online feedback form before they receiv
 e their certificates of completion. \n\n<b>++Due to the COVID-19 public he
 alth emergency\, this training will be conducted on Zoom. Please RSVP now 
 at the link below.++</b>\n\nThis training is sponsored by ReCast MKE throu
 gh the City of Milwaukee Office of Violence Prevention in partnership with
  Community Advocates Public Policy Institute. \n
DTSTART;TZID=America/Chicago:20200519T150000
DTEND;TZID=America/Chicago:20200519T170000
LOCATION:Virtual Training Online via Zoom
SUMMARY:Question\, Persuade\, Refer Suicide Prevention Training Webinar
END:VEVENT
END:VCALENDAR
