BEGIN:VCALENDAR
VERSION:2.0
PRODID:-//ppi.communityadvocates.net//NONSGML kigkonsult.se iCalcreator 2.3
 0.10//
CALSCALE:GREGORIAN
METHOD:PUBLISH
UID:6076f5d6-417c-4272-9070-180a96896c13
X-WR-CALDESC:All are welcome to attend the monthly Milwaukee Reentry Counci
 l meeting\, which is devoted to removing barriers for those leaving incarc
 eration and returning to Milwaukee. Contact Conor Williams for details on 
 how to join the conference call.
X-WR-RELCALID:1f79dbf49a6b5a5f0845c92b06109c7c
X-WR-TIMEZONE:America/Chicago
BEGIN:VTIMEZONE
TZID:America/Chicago
BEGIN:STANDARD
TZNAME:CST
DTSTART:20191103T020000
TZOFFSETFROM:-0500
TZOFFSETTO:-0600
RDATE:20201101T020000
END:STANDARD
BEGIN:DAYLIGHT
TZNAME:CDT
DTSTART:20200308T020000
TZOFFSETFROM:-0600
TZOFFSETTO:-0500
RDATE:20210314T020000
END:DAYLIGHT
END:VTIMEZONE
BEGIN:VEVENT
UID:bccb7ef5-bae9-4e87-a1a4-f42ef0ebccec
DTSTAMP:20260420T185900Z
DESCRIPTION:All are welcome to attend the monthly Milwaukee Reentry Council
  meeting\, which is devoted to removing barriers for those leaving incarce
 ration and returning to Milwaukee. Contact Conor Williams for details on h
 ow to join the conference call.
DTSTART;TZID=America/Chicago:20200422T140000
DTEND;TZID=America/Chicago:20200422T153000
LOCATION:Via conference call
SUMMARY:Milwaukee Reentry Council Meeting
END:VEVENT
END:VCALENDAR
