BEGIN:VCALENDAR
VERSION:2.0
PRODID:-//ppi.communityadvocates.net//NONSGML kigkonsult.se iCalcreator 2.3
 0.10//
CALSCALE:GREGORIAN
METHOD:PUBLISH
UID:2df0688a-6477-4d95-8e0c-6bb41d9e39d2
X-WR-CALDESC:All are welcome to attend the monthly Milwaukee Reentry Counci
 l meeting\, which is devoted to removing barriers for those leaving incarc
 eration and returning to Milwaukee. This meeting will be held via conferen
 ce call. Contact Conor Williams for details.
X-WR-RELCALID:231791c831e852efeecc5b4aa6e993df
X-WR-TIMEZONE:America/Chicago
BEGIN:VTIMEZONE
TZID:America/Chicago
BEGIN:STANDARD
TZNAME:CST
DTSTART:20191103T020000
TZOFFSETFROM:-0500
TZOFFSETTO:-0600
RDATE:20201101T020000
END:STANDARD
BEGIN:DAYLIGHT
TZNAME:CDT
DTSTART:20200308T020000
TZOFFSETFROM:-0600
TZOFFSETTO:-0500
RDATE:20210314T020000
END:DAYLIGHT
END:VTIMEZONE
BEGIN:VEVENT
UID:e745cd34-f5fe-46ee-9d0a-ffc825c720f8
DTSTAMP:20260420T203359Z
DESCRIPTION:All are welcome to attend the monthly Milwaukee Reentry Council
  meeting\, which is devoted to removing barriers for those leaving incarce
 ration and returning to Milwaukee. This meeting will be held via conferenc
 e call. Contact Conor Williams for details.
DTSTART;TZID=America/Chicago:20200325T140000
DTEND;TZID=America/Chicago:20200325T153000
LOCATION:To Be Announced
SUMMARY:Milwaukee Reentry Council Meeting
END:VEVENT
END:VCALENDAR
