BEGIN:VCALENDAR
VERSION:2.0
PRODID:-//ppi.communityadvocates.net//NONSGML kigkonsult.se iCalcreator 2.3
 0.10//
CALSCALE:GREGORIAN
METHOD:PUBLISH
UID:d8c31878-b39a-48d7-9d41-939f3d17b0b5
X-WR-CALDESC:Members of the MCSAP coalition will meet from noon to 2:30 p.m
 . This meeting will be held via conference call. Interested in attending? 
 Contact us at the link below.
X-WR-RELCALID:ef053f93e9f5f0dc5be2b458965aa2f2
X-WR-TIMEZONE:America/Chicago
BEGIN:VTIMEZONE
TZID:America/Chicago
BEGIN:STANDARD
TZNAME:CST
DTSTART:20191103T020000
TZOFFSETFROM:-0500
TZOFFSETTO:-0600
RDATE:20201101T020000
END:STANDARD
BEGIN:DAYLIGHT
TZNAME:CDT
DTSTART:20200308T020000
TZOFFSETFROM:-0600
TZOFFSETTO:-0500
RDATE:20210314T020000
END:DAYLIGHT
END:VTIMEZONE
BEGIN:VEVENT
UID:80dbf9ef-b0db-46c3-94db-0b6fdc7bf6ff
DTSTAMP:20260420T203236Z
DESCRIPTION:Members of the MCSAP coalition will meet from noon to 2:30 p.m.
  This meeting will be held via conference call. Interested in attending? C
 ontact us at the link below.
DTSTART;TZID=America/Chicago:20200319T120000
DTEND;TZID=America/Chicago:20200319T143000
LOCATION:This meeting will be held via conference call.
SUMMARY:MCSAP Coalition Meeting
END:VEVENT
END:VCALENDAR
