BEGIN:VCALENDAR
VERSION:2.0
PRODID:-//ppi.communityadvocates.net//NONSGML kigkonsult.se iCalcreator 2.3
 0.10//
CALSCALE:GREGORIAN
METHOD:PUBLISH
UID:c16a3b0a-f6d1-4a3a-91d9-77c8bb781853
X-WR-CALDESC:Prevention programs engage youth in developmental experiences 
 that create norms for\, and a social commitment to\, not engaging in unhea
 lthy behaviors. To do this effectively\, program facilitators must be comp
 etent in building relationships with youth\, managing classroom behaviors\
 , and helping youth build pro-social skills.\n\nThis training is designed 
 to help youth work professionals:\n\n1. Build healthy relationships with y
 outh in program settings.\n2. Learn simple strategies for managing classro
 om behaviors.\n3. Practice implementing skill-building techniques.  \n\n<b
 >++RSVPs are required for this free community event. Click on the link bel
 ow to register.++</b>\n\nThis training is sponsored by ReCast MKE through 
 the City of Milwaukee Office of Violence Prevention in partnership with Co
 mmunity Advocates Public Policy Institute. \n\n
X-WR-RELCALID:6b6afe0070b72dc3338175e52964d453
X-WR-TIMEZONE:America/Chicago
BEGIN:VTIMEZONE
TZID:America/Chicago
BEGIN:STANDARD
TZNAME:CST
DTSTART:20191103T020000
TZOFFSETFROM:-0500
TZOFFSETTO:-0600
RDATE:20201101T020000
END:STANDARD
BEGIN:DAYLIGHT
TZNAME:CDT
DTSTART:20190310T020000
TZOFFSETFROM:-0600
TZOFFSETTO:-0500
RDATE:20200308T020000
RDATE:20210314T020000
END:DAYLIGHT
END:VTIMEZONE
BEGIN:VEVENT
UID:67525b29-38d2-4757-adc7-5afcb01c7805
DTSTAMP:20260420T215648Z
DESCRIPTION:Prevention programs engage youth in developmental experiences t
 hat create norms for\, and a social commitment to\, not engaging in unheal
 thy behaviors. To do this effectively\, program facilitators must be compe
 tent in building relationships with youth\, managing classroom behaviors\,
  and helping youth build pro-social skills.\n\nThis training is designed t
 o help youth work professionals:\n\n1. Build healthy relationships with yo
 uth in program settings.\n2. Learn simple strategies for managing classroo
 m behaviors.\n3. Practice implementing skill-building techniques.  \n\n<b>
 ++RSVPs are required for this free community event. Click on the link belo
 w to register.++</b>\n\nThis training is sponsored by ReCast MKE through t
 he City of Milwaukee Office of Violence Prevention in partnership with Com
 munity Advocates Public Policy Institute. \n\n
DTSTART;TZID=America/Chicago:20200220T100000
DTEND;TZID=America/Chicago:20200220T140000
LOCATION:Barack Obama School of Career and Technical Education 5075 N Sherm
 an Blvd.\, Milwaukee\, WI 3209
SUMMARY:Building Prevention Programs
END:VEVENT
END:VCALENDAR
