BEGIN:VCALENDAR
VERSION:2.0
PRODID:-//ppi.communityadvocates.net//NONSGML kigkonsult.se iCalcreator 2.3
 0.10//
CALSCALE:GREGORIAN
METHOD:PUBLISH
UID:8a46e192-a1f4-43a9-b929-626fb76d5ba4
X-WR-CALDESC:Motivational Interviewing is a tool used to address addiction 
 and other physical health conditions. This two-day professional developmen
 t opportunity led by Shawn Smith will teach the core concepts of Motivatio
 nal Interviewing\, and how to encourage others to change behaviors that pr
 event them from making healthier choices. This workshop is designed for al
 l human service professionals. The training will be held on two days\, Feb
 ruary 5 and February 11 and is offered for free thanks to the sponsorship 
 of Community Advocates Public Policy Institute and the Milwaukee County Su
 bstance Abuse Prevention Coalition (MCSAP). <b>RSVPs are required at the l
 ink below.</b>
X-WR-RELCALID:5dbc282fb164545de1932158d737bea0
X-WR-TIMEZONE:America/Chicago
BEGIN:VTIMEZONE
TZID:America/Chicago
BEGIN:STANDARD
TZNAME:CST
DTSTART:20191103T020000
TZOFFSETFROM:-0500
TZOFFSETTO:-0600
RDATE:20201101T020000
END:STANDARD
BEGIN:DAYLIGHT
TZNAME:CDT
DTSTART:20190310T020000
TZOFFSETFROM:-0600
TZOFFSETTO:-0500
RDATE:20200308T020000
RDATE:20210314T020000
END:DAYLIGHT
END:VTIMEZONE
BEGIN:VEVENT
UID:e24c56e3-7f32-4d13-8fb8-d7a3cf76830e
DTSTAMP:20260420T220125Z
DESCRIPTION:Motivational Interviewing is a tool used to address addiction a
 nd other physical health conditions. This two-day professional development
  opportunity led by Shawn Smith will teach the core concepts of Motivation
 al Interviewing\, and how to encourage others to change behaviors that pre
 vent them from making healthier choices. This workshop is designed for all
  human service professionals. The training will be held on two days\, Febr
 uary 5 and February 11 and is offered for free thanks to the sponsorship o
 f Community Advocates Public Policy Institute and the Milwaukee County Sub
 stance Abuse Prevention Coalition (MCSAP). <b>RSVPs are required at the li
 nk below.</b>
DTSTART;TZID=America/Chicago:20200211T083000
DTEND;TZID=America/Chicago:20200211T163000
LOCATION:Community Advocates Training Center\, 6900 W. Brown Deer Road\, Mi
 lwaukee
SUMMARY:Motivational Interviewing Part 2
END:VEVENT
END:VCALENDAR
