BEGIN:VCALENDAR
VERSION:2.0
PRODID:-//ppi.communityadvocates.net//NONSGML kigkonsult.se iCalcreator 2.3
 0.10//
CALSCALE:GREGORIAN
METHOD:PUBLISH
UID:56536a78-c3fb-4495-a964-3195701a6f7b
X-WR-CALDESC:This is a tabletop game experience that builds an understandin
 g of the powerful role of experiences on early brain development. If your 
 organization or community is embarking on a conversation about adverse chi
 ldhood experiences\, toxic stress\, or \nother early childhood issues\, Th
 e Brain Architecture Game can be a valuable resource for creating a common
  understanding of and a common language about these topics.\n\n<b>This fre
 e community event requires registration. Please RSVP at the link below.</b
 >\n\nThis training is sponsored by ReCast MKE through the City of Milwauke
 e Office of Violence Prevention in partnership with Community Advocates Pu
 blic Policy Institute. \n
X-WR-RELCALID:a5a0df75f2997efc7698f9406942a287
X-WR-TIMEZONE:America/Chicago
BEGIN:VTIMEZONE
TZID:America/Chicago
BEGIN:STANDARD
TZNAME:CST
DTSTART:20191103T020000
TZOFFSETFROM:-0500
TZOFFSETTO:-0600
RDATE:20201101T020000
END:STANDARD
BEGIN:DAYLIGHT
TZNAME:CDT
DTSTART:20190310T020000
TZOFFSETFROM:-0600
TZOFFSETTO:-0500
RDATE:20200308T020000
RDATE:20210314T020000
END:DAYLIGHT
END:VTIMEZONE
BEGIN:VEVENT
UID:262081d0-31f8-4f48-b72e-d4064fcccf19
DTSTAMP:20260420T232027Z
DESCRIPTION:This is a tabletop game experience that builds an understanding
  of the powerful role of experiences on early brain development. If your o
 rganization or community is embarking on a conversation about adverse chil
 dhood experiences\, toxic stress\, or \nother early childhood issues\, The
  Brain Architecture Game can be a valuable resource for creating a common 
 understanding of and a common language about these topics.\n\n<b>This free
  community event requires registration. Please RSVP at the link below.</b>
 \n\nThis training is sponsored by ReCast MKE through the City of Milwaukee
  Office of Violence Prevention in partnership with Community Advocates Pub
 lic Policy Institute. \n
DTSTART;TZID=America/Chicago:20200130T100000
DTEND;TZID=America/Chicago:20200130T120000
LOCATION:Community Advocates Training Center\, 6900 W. Brown Deer Road\, Mi
 lwaukee
SUMMARY:The Brain Architecture Game
END:VEVENT
END:VCALENDAR
